BEGIN:VCALENDAR
VERSION:2.0
PRODID:-//My Calendar//mxm.dk//
BEGIN:VEVENT
SUMMARY:TRACCION A SANGRE II - MAR DEL PLATA
DTSTART:20260517T000000Z
DTEND:20260517T050000Z
DTSTAMP:20260421T050315Z
DESCRIPTION:<p dir="ltr" style="margin: 0pt 0px\; text-align: center\; lin
 e-height: 1.656\;"><font color="#201f1e" face="Arial"><span style="font-si
 ze: 24px\; white-space-collapse: preserve\;"><u><b>Tracción A Sangre II</
 b></u></span></font></p><p dir="ltr" style="margin: 0pt 0px\; text-align: 
 center\; line-height: 1.656\;"><font color="#201f1e" face="Arial"><span st
 yle="font-size: 15.3333px\; white-space-collapse: preserve\;"><span style=
 "font-size: 24px\;"><u><b>EN CLUB TRI</b></u></span></span></font></p><p d
 ir="ltr" style="margin: 0pt 0px\; text-align: center\; line-height: 1.656\
 ;"><br></p><p dir="auto" style="margin: 0px 0px 20px\; line-height: 1.5em\
 ; text-align: center\;"><font color="#333333" face="Arial"><span style="fo
 nt-size: 18px\;">Segunda edición en Mar del Plata!</span></font></p><p di
 r="auto" style="margin: 0px 0px 20px\; line-height: 1.5em\; text-align: ce
 nter\;"><font color="#333333" face="Arial"><span style="font-size: 18px\;"
 >El dúo integrado por Joan Manuel Pardo y Santiago Luis creó un lenguaje
  propio que trascendió etiquetas\, estableciendo su personalidad dentro d
 el rock. Esa constante reinvención sonora que se ha convertido en una se
 ñal de identidad\, es acompañada por el colectivo que lo acompaña en ca
 da show: El acoplado (artistas\, tatuadores\, recicladoras textiles\, y m
 ás) son parte de la celebración\, ¡un lugar donde expresarse y festejar
 .</span></font></p><p dir="auto" style="margin: 0px 0px 20px\; line-height
 : 1.5em\; text-align: center\;"><font color="#333333" face="Arial"><span s
 tyle="font-size: 18px\;">¡Los esperamos!</span></font></p><p style="margi
 n: 0px 0px 20px\; line-height: 1.5em\; font-family: inter\, sans-serif\; f
 ont-size: 14px\; text-align: center\; color: rgb(51\, 51\, 51)\;"><span st
 yle="font-weight: 700\; font-size: 18px\; font-family: Arial\;">CAMIONERO<
 /span><span style="font-size: 18px\; font-family: Arial\;">&nbsp\;es un d
 úo de rock en castellano\, asentado en Buenos Aires. Buscando salirse del
  etiquetado genérico\, Joan Manuel Pardo (guitarra y voz) y Santiago Luis
  (batería y coros) despliegan con su música un cosmos de texturas sonora
 s\, enriqueciendo más allá de lo previsible las posibilidades de orquest
 ación\, solo dos músicos arriba del escenario.</span></p><p dir="ltr" st
 yle="margin: 0pt 0px\; text-align: center\; line-height: 1.656\;"><span st
 yle="font-family: Arial\;">﻿</span><br></p><p dir="ltr" style="margin: 0
 pt 0px\; font-family: Abel\, sans-serif\; text-align: center\; color: rgb(
 51\, 51\, 51)\; font-size: 14px\; line-height: 1.656\;"><span style="font-
 size: 11.5pt\; font-family: Arial\; color: rgb(32\, 31\, 30)\; background-
 color: transparent\; font-variant-numeric: normal\; font-variant-east-asia
 n: normal\; vertical-align: baseline\; white-space-collapse: preserve\;">E
 ntradas anticipadas limitadas en efectivo:</span></p><p dir="ltr" style="m
 argin: 0pt 0px\; font-family: Abel\, sans-serif\; text-align: center\; col
 or: rgb(51\, 51\, 51)\; font-size: 14px\; line-height: 1.656\;"><span styl
 e="font-size: 11pt\; font-family: Arial\; color: rgb(34\, 34\, 34)\; backg
 round-color: transparent\; font-variant-numeric: normal\; font-variant-eas
 t-asian: normal\; vertical-align: baseline\; white-space-collapse: preserv
 e\;">&nbsp\;</span></p><p dir="ltr" style="margin: 0pt 0px\; font-family: 
 Abel\, sans-serif\; text-align: center\; color: rgb(51\, 51\, 51)\; font-s
 ize: 14px\; line-height: 1.656\;"><span style="font-size: 11.5pt\; font-fa
 mily: Arial\; color: rgb(32\, 31\, 30)\; background-color: transparent\; f
 ont-weight: 700\; font-variant-numeric: normal\; font-variant-east-asian: 
 normal\; vertical-align: baseline\; white-space-collapse: preserve\;">La C
 asa de las Guitarras:</span><span style="font-size: 11.5pt\; font-family: 
 Arial\; color: rgb(32\, 31\, 30)\; background-color: transparent\; font-va
 riant-numeric: normal\; font-variant-east-asian: normal\; vertical-align: 
 baseline\; white-space-collapse: preserve\;"> Belgrano 3420 - Mar del Plat
 a</span></p><p dir="ltr" style="margin: 0pt 0px\; font-family: Abel\, sans
 -serif\; text-align: center\; color: rgb(51\, 51\, 51)\; font-size: 14px\;
  line-height: 1.656\;"><span style="font-size: 11.5pt\; font-family: Arial
 \; color: rgb(32\, 31\, 30)\; background-color: transparent\; font-variant
 -numeric: normal\; font-variant-east-asian: normal\; vertical-align: basel
 ine\; white-space-collapse: preserve\;"><span style="font-weight: bolder\;
 ">FAVA Casa Central:</span></span><span style="font-size: 11.5pt\; font-fa
 mily: Arial\; color: rgb(32\, 31\, 30)\; background-color: transparent\; f
 ont-weight: 700\; font-variant-numeric: normal\; font-variant-east-asian: 
 normal\; vertical-align: baseline\; white-space-collapse: preserve\;"> </s
 pan><span style="font-size: 11.5pt\; font-family: Arial\; color: rgb(32\, 
 31\, 30)\; background-color: transparent\; font-variant-numeric: normal\; 
 font-variant-east-asian: normal\; vertical-align: baseline\; white-space-c
 ollapse: preserve\;">Av. Pedro Luro 3247 - Mar del Plata</span></p><p dir=
 "ltr" style="margin: 0pt 0px\; font-family: Abel\, sans-serif\; text-align
 : center\; color: rgb(51\, 51\, 51)\; font-size: 14px\; line-height: 1.656
 \;"><span style="background-color: transparent\; color: rgb(34\, 34\, 34)\
 ; font-family: Arial\; font-size: 11pt\; white-space-collapse: preserve\;"
 >&nbsp\;</span></p><p dir="ltr" style="margin: 0pt 0px\; font-family: Abel
 \, sans-serif\; text-align: center\; color: rgb(51\, 51\, 51)\; font-size:
  14px\; line-height: 1.38\;"><a href="http://www.articket.com.ar/" style="
 color: rgb(51\, 122\, 183)\;"><span style="font-size: 11.5pt\; font-family
 : Arial\; color: rgb(17\, 85\, 204)\; font-variant-numeric: normal\; font-
 variant-east-asian: normal\; text-decoration-line: underline\; text-decora
 tion-skip-ink: none\; vertical-align: baseline\; white-space-collapse: pre
 serve\;">www.articket.com.ar</span></a></p><p dir="ltr" style="margin: 0pt
  0px\; font-family: Abel\, sans-serif\; text-align: center\; color: rgb(51
 \, 51\, 51)\; font-size: 14px\; line-height: 1.656\;"><br></p><p dir="ltr"
  style="margin: 0pt 0px\; font-family: Abel\, sans-serif\; text-align: cen
 ter\; color: rgb(51\, 51\, 51)\; font-size: 14px\; line-height: 1.38\;"><s
 pan style="font-size: 11pt\; font-family: Arial\; color: rgb(34\, 34\, 34)
 \; font-variant-numeric: normal\; font-variant-east-asian: normal\; vertic
 al-align: baseline\; white-space-collapse: preserve\;"><span style="font-w
 eight: bolder\;">APTO MAYORES 18 AÑOS</span></span></p><p dir="ltr" style
 ="margin: 0pt 0px\; font-family: Abel\, sans-serif\; text-align: center\; 
 color: rgb(51\, 51\, 51)\; font-size: 14px\; line-height: 1.38\;"><span st
 yle="font-size: 11pt\; font-family: Arial\; color: rgb(34\, 34\, 34)\; fon
 t-variant-numeric: normal\; font-variant-east-asian: normal\; vertical-ali
 gn: baseline\; white-space-collapse: preserve\;"><span style="font-weight:
  bolder\;"><br></span></span></p><p dir="ltr" style="margin: 0pt 0px\; fon
 t-family: Abel\, sans-serif\; text-align: center\; color: rgb(51\, 51\, 51
 )\; font-size: 14px\; line-height: 1.38\;"><span style="font-size: 11pt\; 
 font-family: Arial\; color: rgb(34\, 34\, 34)\; font-variant-numeric: norm
 al\; font-variant-east-asian: normal\; vertical-align: baseline\; white-sp
 ace-collapse: preserve\;"><span style="font-weight: bolder\;"><br></span><
 /span></p><p dir="ltr" style="margin: 0pt 0px\; font-family: Abel\, sans-s
 erif\; text-align: center\; color: rgb(51\, 51\, 51)\; font-size: 14px\; l
 ine-height: 1.38\;"><span style="font-size: 11pt\; font-family: Arial\; co
 lor: rgb(34\, 34\, 34)\; font-variant-numeric: normal\; font-variant-east-
 asian: normal\; vertical-align: baseline\; white-space-collapse: preserve\
 ;"><span style="font-weight: bolder\;"><br></span></span></p><p dir="ltr" 
 style="margin: 0pt 0px\; font-family: Abel\, sans-serif\; text-align: cent
 er\; color: rgb(51\, 51\, 51)\; font-size: 14px\; line-height: 1.38\;"><sp
 an style="color: rgb(156\, 156\, 148)\; font-size: 12px\;">PROMO BANCO PRO
 VINCIA CONDICIONES:&nbsp\;</span><a href="https://tr.ee/89uSGj" target="_b
 lank" style="background-color: rgb(255\, 255\, 255)\; font-size: 12px\;">h
 ttps://tr.ee/89uSGj</a></p>
END:VEVENT
END:VCALENDAR
