BEGIN:VCALENDAR
VERSION:2.0
PRODID:-//My Calendar//mxm.dk//
BEGIN:VEVENT
SUMMARY:LA WONDER EN WO
DTSTART:20260425T000000Z
DTEND:20260425T080000Z
DTSTAMP:20260422T135743Z
DESCRIPTION:<p style="text-align: center\;"><font color="#1f1f1f" face="Se
 goe UI"><span style="font-size: 24px\; font-variant-ligatures: no-contextu
 al\;"><b><u>LA WONDER EN WO</u></b></span></font></p><p style="text-align:
  center\;"><font color="#1f1f1f" face="Segoe UI"><span style="font-size: 2
 4px\; font-variant-ligatures: no-contextual\;"><span style="font-weight: b
 older\;"><u>NECOCHEA</u></span></span></font></p><div style="text-align: c
 enter\; color: rgb(34\, 34\, 34)\; font-family: Arial\, Helvetica\, sans-s
 erif\; font-size: small\;"><b>Una fiesta de rock y cumbia.</b></div><div s
 tyle="text-align: center\; color: rgb(34\, 34\, 34)\; font-family: Arial\,
  Helvetica\, sans-serif\; font-size: small\;"><b><br></b></div><div style=
 "text-align: center\; color: rgb(34\, 34\, 34)\; font-family: Arial\, Helv
 etica\, sans-serif\; font-size: small\;"><b>Adrenalina y Trasnochados.&nbs
 p\;<br></b><br></div><p style="text-align: center\;">Entradas anticipadas 
 limitadas en efectivo:</p><p style="text-align: center\;">&nbsp\;ADN Store
 : Calle 61 N° 2813 - Necochea.</p><p style="text-align: center\;">www.art
 icket.com.ar</p><p style="text-align: center\;"><br></p><p style="text-ali
 gn: center\;"><span style="font-weight: bolder\;">APTO TODO PUBLICO</span>
 </p><p style="text-align: center\;"><span style="font-weight: bolder\;"><b
 r></span></p><p dir="ltr" style="margin: 0pt 0px\; text-align: center\; li
 ne-height: 1.38\;"><font face="Abel\, sans-serif" color="#9c9c94"><span st
 yle="font-size: 12px\;">PROMO BANCO PROVINCIA CONDICIONES:&nbsp\;<a href="
 https://tr.ee/89uSGj" target="_blank">https://tr.ee/89uSGj</a></span></fon
 t></p>
END:VEVENT
END:VCALENDAR
