BEGIN:VCALENDAR
VERSION:2.0
PRODID:-//My Calendar//mxm.dk//
BEGIN:VEVENT
SUMMARY:METAGUACHA EN WO
DTSTART:20260502T010000Z
DTEND:20260502T060000Z
DTSTAMP:20260423T162205Z
DESCRIPTION:<p style="text-align: center\;"><font color="#1f1f1f" face="Se
 goe UI"><span style="font-size: 24px\; font-variant-ligatures: no-contextu
 al\;"><u style=""><b>META GUACHA EN WO</b></u></span></font></p><p style="
 text-align: center\;"><font color="#1f1f1f" face="Segoe UI"><span style="f
 ont-size: 24px\; font-variant-ligatures: no-contextual\;"><u style=""><b>N
 ECOCHEA</b><br><br></u></span></font></p><div style="text-align: center\; 
 color: rgb(34\, 34\, 34)\; font-family: Arial\, Helvetica\, sans-serif\; f
 ont-size: small\;"><br></div><p style="text-align: center\;">Entradas anti
 cipadas limitadas en efectivo:</p><p style="text-align: center\;">&nbsp\;A
 DN Store: Calle 61 N° 2813 - Necochea.</p><p style="text-align: center\;"
 >www.articket.com.ar</p><p style="text-align: center\;"><br></p><p style="
 text-align: center\;"><span style="font-weight: bolder\;">APTO TODO PUBLIC
 O</span></p><p style="text-align: center\;"><span style="font-weight: bold
 er\;"><br></span></p><p dir="ltr" style="margin: 0pt 0px\; text-align: cen
 ter\; line-height: 1.38\;"><font face="Abel\, sans-serif" color="#9c9c94">
 <span style="font-size: 12px\;">PROMO BANCO PROVINCIA CONDICIONES:&nbsp\;<
 a href="https://tr.ee/89uSGj" target="_blank">https://tr.ee/89uSGj</a></sp
 an></font></p>
END:VEVENT
END:VCALENDAR
