BEGIN:VCALENDAR
VERSION:2.0
PRODID:-//My Calendar//mxm.dk//
BEGIN:VEVENT
SUMMARY:DIVIDIDOS X ALIENADOS EN WO
DTSTART:20260501T010000Z
DTEND:20260501T080000Z
DTSTAMP:20260424T124449Z
DESCRIPTION:<p style="text-align: center\;"><font color="#1f1f1f" face="Se
 goe UI"><span style="font-size: 24px\; font-variant-ligatures: no-contextu
 al\;"><b><u>DIVIDIDOS X ALIENADOS EN WO</u></b></span></font></p><p style=
 "text-align: center\;"><font color="#1f1f1f" face="Segoe UI"><span style="
 font-size: 24px\; font-variant-ligatures: no-contextual\;"><span style="fo
 nt-weight: bolder\;"><u>NECOCHEA</u></span></span></font></p><p style="tex
 t-align: center\;">Banda invitada: Plomos de Nadie</p><div style="text-ali
 gn: center\;"><br></div><div style="text-align: center\;"><b><span style="
 font-size: 18px\;">PUERTAS: 21 HS</span></b></div><div style="text-align: 
 center\;"><b><span style="font-size: 18px\;">SHOW: 22 HS</span></b></div><
 div style="text-align: center\; color: rgb(34\, 34\, 34)\; font-family: Ar
 ial\, Helvetica\, sans-serif\; font-size: small\;"><span style="font-weigh
 t: bolder\;">&nbsp\;</span></div><div style="text-align: center\; color: r
 gb(34\, 34\, 34)\; font-family: Arial\, Helvetica\, sans-serif\; font-size
 : small\;"><br></div><p style="text-align: center\;">Entradas anticipadas 
 limitadas en efectivo:</p><p style="text-align: center\;">&nbsp\;ADN Store
 : Calle 61 N° 2813 - Necochea.</p><p style="text-align: center\;">www.art
 icket.com.ar</p><p style="text-align: center\;"><br></p><p style="text-ali
 gn: center\;"><span style="font-weight: bolder\;">APTO TODO PUBLICO</span>
 </p><p style="text-align: center\;"><span style="font-weight: bolder\;"><b
 r></span></p><p dir="ltr" style="margin: 0pt 0px\; text-align: center\; li
 ne-height: 1.38\;"><font face="Abel\, sans-serif" color="#9c9c94"><span st
 yle="font-size: 12px\;">PROMO BANCO PROVINCIA CONDICIONES:&nbsp\;<a href="
 https://tr.ee/89uSGj" target="_blank">https://tr.ee/89uSGj</a></span></fon
 t></p>
END:VEVENT
END:VCALENDAR
