BEGIN:VCALENDAR
VERSION:2.0
PRODID:-//My Calendar//mxm.dk//
BEGIN:VEVENT
SUMMARY:JOAQUIN DEL MUNDO EN WO 29-5
DTSTART:20260430T010000Z
DTEND:20260430T080000Z
DTSTAMP:20260424T124330Z
DESCRIPTION:<p style="text-align: center\;"><font color="#1f1f1f" face="Se
 goe UI"><span style="font-size: 24px\; font-variant-ligatures: no-contextu
 al\;"><b><u>JOAQUIN DEL MUNDO EN WO</u></b></span></font></p><p style="tex
 t-align: center\;"><font color="#1f1f1f" face="Segoe UI"><span style="font
 -size: 24px\; font-variant-ligatures: no-contextual\;"><span style="font-w
 eight: bolder\;"><u>NECOCHEA</u></span></span></font></p><p style="text-al
 ign: center\;"><font color="#1f1f1f" face="Segoe UI"><span style="font-siz
 e: 24px\; font-variant-ligatures: no-contextual\;"><span style="font-weigh
 t: bolder\; font-size: 18px\;">PUERTAS: 21 HS</span></span></font></p><p s
 tyle="text-align: center\;"><font color="#1f1f1f" face="Segoe UI"><span st
 yle="font-size: 24px\; font-variant-ligatures: no-contextual\;"><span styl
 e="font-weight: bolder\; font-size: 18px\;">SHOW: 22 HS</span></span></fon
 t></p><div style="text-align: center\; color: rgb(34\, 34\, 34)\; font-fam
 ily: Arial\, Helvetica\, sans-serif\; font-size: small\;"><br></div><div s
 tyle="text-align: center\; color: rgb(34\, 34\, 34)\; font-family: Arial\,
  Helvetica\, sans-serif\; font-size: small\;"><br></div><p style="text-ali
 gn: center\;">Entradas anticipadas limitadas en efectivo:</p><p style="tex
 t-align: center\;">&nbsp\;ADN Store: Calle 61 N° 2813 - Necochea.</p><p s
 tyle="text-align: center\;">www.articket.com.ar</p><p style="text-align: c
 enter\;"><br></p><p style="text-align: center\;"><span style="font-weight:
  bolder\;">APTO TODO PUBLICO</span></p><p style="text-align: center\;"><sp
 an style="font-weight: bolder\;"><br></span></p><p dir="ltr" style="margin
 : 0pt 0px\; text-align: center\; line-height: 1.38\;"><font face="Abel\, s
 ans-serif" color="#9c9c94"><span style="font-size: 12px\;">PROMO BANCO PRO
 VINCIA CONDICIONES:&nbsp\;<a href="https://tr.ee/89uSGj" target="_blank">h
 ttps://tr.ee/89uSGj</a></span></font></p>
END:VEVENT
END:VCALENDAR
