BEGIN:VCALENDAR
VERSION:2.0
PRODID:-//My Calendar//mxm.dk//
BEGIN:VEVENT
SUMMARY:LOS ETERNOS EN SMITH 14-5
DTSTART:20260515T000000Z
DTEND:20260515T080000Z
DTSTAMP:20260424T130043Z
DESCRIPTION:<p dir="ltr" style="margin: 0pt 0px\; text-align: center\; tex
 t-size-adjust: 100%\; line-height: 1.656\;"><font color="#201f1e" face="Ar
 ial"><span style="font-size: 15.3333px\;"><span style="font-weight: bolder
 \;"><span style="text-decoration-line: underline\; font-size: 24px\;">LOS 
 ETERNOS EN SMITH</span><br></span></span></font></p><div style="text-align
 : center\;"><br></div><div><br style="color: rgb(34\, 34\, 34)\; font-fami
 ly: Arial\, Helvetica\, sans-serif\; font-size: small\;"></div><p dir="ltr
 " style="margin: 0pt 0px\; text-align: center\; text-size-adjust: 100%\; l
 ine-height: 1.656\;"><span style="-webkit-tap-highlight-color: transparent
 \; text-size-adjust: 100%\; color: rgb(32\, 31\, 30)\; font-family: Arial\
 ; font-size: 11.5pt\;">Entradas anticipadas limitadas en efectivo:</span><
 span style="-webkit-tap-highlight-color: transparent\; text-size-adjust: 1
 00%\; color: rgb(34\, 34\, 34)\; font-family: Arial\; font-size: 11pt\;">&
 nbsp\;</span><br></p><p dir="ltr" style="margin: 0pt 0px\; text-align: cen
 ter\; text-size-adjust: 100%\; line-height: 1.656\;"><font color="#201f1e"
  face="Arial"><span style="font-size: 15.3333px\;"><span style="font-weigh
 t: bolder\;">&nbsp\;</span></span></font></p><p dir="ltr" style="margin: 0
 pt 0px\; text-align: center\; text-size-adjust: 100%\; line-height: 1.656\
 ;"><font color="#201f1e" face="Arial"><span style="font-size: 15.3333px\;"
 ><span style="font-weight: bolder\;">La Casa de las Guitarras:</span><span
  style="font-weight: bolder\;">&nbsp\;</span>Belgrano 3420 - Mar del Plata
 </span></font></p><p dir="ltr" style="margin: 0pt 0px\; font-family: Abel\
 , sans-serif\; text-align: center\; color: rgb(51\, 51\, 51)\; font-size: 
 14px\; line-height: 1.656\;"><span style="font-size: 11.5pt\; font-family:
  Arial\; color: rgb(32\, 31\, 30)\; background-color: transparent\; font-v
 ariant-numeric: normal\; font-variant-east-asian: normal\; vertical-align:
  baseline\; white-space-collapse: preserve\;"><span style="font-weight: bo
 lder\;">FAVA Casa Central:</span></span><span style="font-size: 11.5pt\; f
 ont-family: Arial\; color: rgb(32\, 31\, 30)\; background-color: transpare
 nt\; font-weight: 700\; font-variant-numeric: normal\; font-variant-east-a
 sian: normal\; vertical-align: baseline\; white-space-collapse: preserve\;
 "> </span><span style="font-size: 11.5pt\; font-family: Arial\; color: rgb
 (32\, 31\, 30)\; background-color: transparent\; font-variant-numeric: nor
 mal\; font-variant-east-asian: normal\; vertical-align: baseline\; white-s
 pace-collapse: preserve\;">Av. Pedro Luro 3247 - Mar del Plata</span></p><
 div><span style="font-size: 11.5pt\; font-family: Arial\; color: rgb(32\, 
 31\, 30)\; background-color: transparent\; font-variant-numeric: normal\; 
 font-variant-east-asian: normal\; vertical-align: baseline\; white-space-c
 ollapse: preserve\;"><br></span></div><div style="font-family: Abel\, sans
 -serif\; text-align: center\;"><span style="caret-color: rgb(51\, 51\, 51)
 \; font-size: 11.5pt\; font-family: Arial\; color: rgb(32\, 31\, 30)\; fon
 t-variant-numeric: normal\; font-variant-east-asian: normal\; vertical-ali
 gn: baseline\;"><span style="font-weight: 700\;"><br></span></span></div><
 p dir="ltr" style="margin: 0pt 0px\; font-family: Abel\, sans-serif\; text
 -align: center\; text-size-adjust: 100%\; color: rgb(51\, 51\, 51)\; font-
 size: 14px\; line-height: 1.38\;"><a href="http://www.articket.com.ar/" st
 yle="color: rgb(51\, 122\, 183)\;"><span style="font-size: 11.5pt\; font-f
 amily: Arial\; color: rgb(17\, 85\, 204)\; font-variant-numeric: normal\; 
 font-variant-east-asian: normal\; text-decoration-line: underline\; text-d
 ecoration-skip-ink: none\; vertical-align: baseline\;">www.articket.com.ar
 </span></a></p><p class="MsoNormal" style="margin: 0px 0px 10pt\; text-ali
 gn: center\; text-size-adjust: 100%\; color: rgb(34\, 34\, 34)\; font-fami
 ly: Arial\, Helvetica\, sans-serif\; font-size: small\; line-height: 14.95
 px\;"><span style="font-family: Calibri\, sans-serif\;"><br></span></p><p 
 class="MsoNormal" style="margin: 0px 0px 10pt\; text-align: center\; text-
 size-adjust: 100%\; color: rgb(34\, 34\, 34)\; font-family: Arial\, Helvet
 ica\, sans-serif\; font-size: small\; line-height: 14.95px\;"><span style=
 "font-family: Calibri\, sans-serif\;"><span style="font-family: Arial\; fo
 nt-size: 14.6667px\;"><span style="font-weight: bolder\;">EVENTO APTO +18<
 /span></span></span></p><p class="MsoNormal" style="margin: 0px 0px 10pt\;
  text-align: center\; text-size-adjust: 100%\; color: rgb(34\, 34\, 34)\; 
 font-family: Arial\, Helvetica\, sans-serif\; font-size: small\; line-heig
 ht: 14.95px\;"><span style="font-family: Calibri\, sans-serif\;"><span sty
 le="font-family: Arial\; font-size: 14.6667px\;"><span style="font-weight:
  bolder\;"><br></span></span></span></p><p class="MsoNormal" style="margin
 : 0px 0px 10pt\; text-align: center\; text-size-adjust: 100%\; line-height
 : 14.95px\;"><span style="font-size: 12px\; color: rgb(156\, 156\, 148)\; 
 font-family: Abel\, sans-serif\;">PROMO BANCO PROVINCIA CONDICIONES:&nbsp\
 ;</span><a href="https://tr.ee/89uSGj" target="_blank" style="background-c
 olor: rgb(255\, 255\, 255)\; font-size: 12px\; font-family: Abel\, sans-se
 rif\;">https://tr.ee/89uSGj</a></p>
END:VEVENT
END:VCALENDAR
