BEGIN:VCALENDAR
VERSION:2.0
PRODID:-//My Calendar//mxm.dk//
BEGIN:VEVENT
SUMMARY:JOAQUIN DEL MUNDO EN EL INSTI
DTSTART:20260719T000000Z
DTEND:20260719T040000Z
DTSTAMP:20260424T124804Z
DESCRIPTION:<p dir="ltr" style="margin: 0pt 0px\; text-align: center\; lin
 e-height: 1.656\;"><font color="#201f1e" face="Arial"><span style="font-si
 ze: 18px\; white-space-collapse: preserve\;"><span style="font-size: 24px\
 ;"><u><span style="font-weight: bolder\;">JOAQUIN DEL MUNDO EN EL INSTI</s
 pan></u></span></span></font></p><p dir="ltr" style="margin: 0pt 0px\; tex
 t-align: center\; line-height: 1.656\;"><font color="#201f1e" face="Arial"
 ><span style="font-size: 15.3333px\; white-space-collapse: preserve\;"><sp
 an style="font-size: 24px\;"><u><span style="font-weight: bolder\;"> MAR D
 EL PLATA</span></u></span></span></font></p><p dir="ltr" style="margin: 0p
 t 0px\; text-align: center\; line-height: 1.656\;"><br></p><p dir="ltr" st
 yle="margin: 0pt 0px\; font-family: Abel\, sans-serif\; text-align: center
 \; text-size-adjust: 100%\; color: rgb(51\, 51\, 51)\; font-size: 14px\; l
 ine-height: 1.656\;"><span style="font-size: 11.5pt\; font-family: Arial\;
  color: rgb(32\, 31\, 30)\; font-variant-numeric: normal\; font-variant-ea
 st-asian: normal\; vertical-align: baseline\;">Entradas anticipadas limita
 das en efectivo:</span></p><p dir="ltr" style="margin: 0pt 0px\; font-fami
 ly: Abel\, sans-serif\; text-align: center\; text-size-adjust: 100%\; colo
 r: rgb(51\, 51\, 51)\; font-size: 14px\; line-height: 1.656\;"><span style
 ="font-size: 11pt\; font-family: Arial\; color: rgb(34\, 34\, 34)\; font-v
 ariant-numeric: normal\; font-variant-east-asian: normal\; vertical-align:
  baseline\;">&nbsp\;</span></p><p dir="ltr" style="margin: 0pt 0px\; font-
 family: Abel\, sans-serif\; text-align: center\; text-size-adjust: 100%\; 
 color: rgb(51\, 51\, 51)\; font-size: 14px\; line-height: 1.656\;"><span s
 tyle="font-size: 11.5pt\; font-family: Arial\; color: rgb(32\, 31\, 30)\; 
 font-variant-numeric: normal\; font-variant-east-asian: normal\; vertical-
 align: baseline\;"><span style="font-weight: bolder\;">La Casa de las Guit
 arras:</span></span><span style="font-size: 11.5pt\; font-family: Arial\; 
 color: rgb(32\, 31\, 30)\; font-variant-numeric: normal\; font-variant-eas
 t-asian: normal\; vertical-align: baseline\;">&nbsp\;Belgrano 3420 - Mar d
 el Plata</span></p><p dir="ltr" style="margin: 0pt 0px\; font-family: Abel
 \, sans-serif\; text-align: center\; color: rgb(51\, 51\, 51)\; font-size:
  14px\; line-height: 1.656\;"><span style="font-size: 11.5pt\; font-family
 : Arial\; color: rgb(32\, 31\, 30)\; background-color: transparent\; font-
 variant-numeric: normal\; font-variant-east-asian: normal\; vertical-align
 : baseline\; white-space-collapse: preserve\;"><span style="font-weight: b
 older\;">FAVA Casa Central:</span></span><span style="font-size: 11.5pt\; 
 font-family: Arial\; color: rgb(32\, 31\, 30)\; background-color: transpar
 ent\; font-weight: 700\; font-variant-numeric: normal\; font-variant-east-
 asian: normal\; vertical-align: baseline\; white-space-collapse: preserve\
 ;"> </span><span style="font-size: 11.5pt\; font-family: Arial\; color: rg
 b(32\, 31\, 30)\; background-color: transparent\; font-variant-numeric: no
 rmal\; font-variant-east-asian: normal\; vertical-align: baseline\; white-
 space-collapse: preserve\;">Av. Pedro Luro 3247 - Mar del Plata</span></p>
 <p dir="ltr" style="margin: 0pt 0px\; text-align: center\; line-height: 1.
 656\;"><font color="#201f1e" face="Arial"><span style="font-size: 15.3333p
 x\; white-space-collapse: preserve\;"><span style="font-weight: bolder\;">
 <u></u></span></span></font></p><p dir="ltr" style="margin: 0pt 0px\; font
 -family: Abel\, sans-serif\; text-align: center\; color: rgb(51\, 51\, 51)
 \; font-size: 14px\; line-height: 1.656\;"><span style="background-color: 
 transparent\; color: rgb(34\, 34\, 34)\; font-family: Arial\; font-size: 1
 1pt\; white-space-collapse: preserve\;">&nbsp\;</span></p><p dir="ltr" sty
 le="margin: 0pt 0px\; font-family: Abel\, sans-serif\; text-align: center\
 ; color: rgb(51\, 51\, 51)\; font-size: 14px\; line-height: 1.38\;"><a hre
 f="http://www.articket.com.ar/" style="color: rgb(51\, 122\, 183)\;"><span
  style="font-size: 11.5pt\; font-family: Arial\; color: rgb(17\, 85\, 204)
 \; font-variant-numeric: normal\; font-variant-east-asian: normal\; text-d
 ecoration-line: underline\; text-decoration-skip-ink: none\; vertical-alig
 n: baseline\; white-space-collapse: preserve\;">www.articket.com.ar</span>
 </a></p><p dir="ltr" style="margin: 0pt 0px\; font-family: Abel\, sans-ser
 if\; text-align: center\; color: rgb(51\, 51\, 51)\; font-size: 14px\; lin
 e-height: 1.656\;"><br></p><p dir="ltr" style="margin: 0pt 0px\; font-fami
 ly: Abel\, sans-serif\; text-align: center\; color: rgb(51\, 51\, 51)\; fo
 nt-size: 14px\; line-height: 1.38\;"><span style="font-size: 11pt\; font-f
 amily: Arial\; color: rgb(34\, 34\, 34)\; font-variant-numeric: normal\; f
 ont-variant-east-asian: normal\; vertical-align: baseline\; white-space-co
 llapse: preserve\;"><span style="font-weight: bolder\;">APTO PARA TODO PUB
 LICO</span></span></p><p dir="ltr" style="margin: 0pt 0px\; font-family: A
 bel\, sans-serif\; text-align: center\; color: rgb(51\, 51\, 51)\; font-si
 ze: 14px\; line-height: 1.38\;"><span style="font-size: 11pt\; font-family
 : Arial\; color: rgb(34\, 34\, 34)\; font-variant-numeric: normal\; font-v
 ariant-east-asian: normal\; vertical-align: baseline\; white-space-collaps
 e: preserve\;"><span style="font-weight: bolder\;"><br></span></span></p><
 p dir="ltr" style="margin: 0pt 0px\; font-family: Abel\, sans-serif\; text
 -align: center\; color: rgb(51\, 51\, 51)\; font-size: 14px\; line-height:
  1.38\;"><span style="font-size: 11pt\; font-family: Arial\; color: rgb(34
 \, 34\, 34)\; font-variant-numeric: normal\; font-variant-east-asian: norm
 al\; vertical-align: baseline\; white-space-collapse: preserve\;"><span st
 yle="color: rgb(156\, 156\, 148)\; font-family: Abel\, sans-serif\; font-s
 ize: 12px\; white-space: normal\;">PROMO BANCO PROVINCIA CONDICIONES:&nbsp
 \;</span><a href="https://tr.ee/89uSGj" target="_blank" style="background-
 color: rgb(255\, 255\, 255)\; font-family: Abel\, sans-serif\; font-size: 
 12px\; white-space: normal\;">https://tr.ee/89uSGj</a><span style="font-we
 ight: bolder\;"></span></span></p>
END:VEVENT
END:VCALENDAR
