BEGIN:VCALENDAR
VERSION:2.0
PRODID:-//My Calendar//mxm.dk//
BEGIN:VEVENT
SUMMARY:HEROE LIRICO POP EN OLAVARRIA
DTSTART:20260606T000000Z
DTEND:20260606T025500Z
DTSTAMP:20260424T124244Z
DESCRIPTION:<p dir="ltr" style="margin: 0pt 0px\; text-align: center\; -we
 bkit-tap-highlight-color: rgba(0\, 0\, 0\, 0)\; text-size-adjust: 100%\; l
 ine-height: 1.656\;"><font color="#201f1e" face="Arial"><span style="font-
 size: 24px\; caret-color: rgb(51\, 51\, 51)\;"><b><u>HÉROE LÍRICO POP</u
 ></b></span></font></p><p dir="ltr" style="margin: 0pt 0px\; text-align: c
 enter\; -webkit-tap-highlight-color: rgba(0\, 0\, 0\, 0)\; text-size-adjus
 t: 100%\; line-height: 1.656\;"><font color="#201f1e" face="Arial"><span s
 tyle="font-size: 24px\; caret-color: rgb(51\, 51\, 51)\;"><b><u>CINEMA LÍ
 RICO</u></b></span></font></p><p dir="ltr" style="margin: 0pt 0px\; text-a
 lign: center\; -webkit-tap-highlight-color: rgba(0\, 0\, 0\, 0)\; text-siz
 e-adjust: 100%\; line-height: 1.656\;"><font color="#201f1e" face="Arial">
 <u><font face="Abel\, sans-serif"><span style="font-size: 18px\; caret-col
 or: rgb(51\, 51\, 51)\;"><span style="font-weight: bolder\;">EN OLAVARRIA<
 /span></span></font></u></font></p><p dir="ltr" style="margin: 0pt 0px\; f
 ont-family: Abel\, sans-serif\; text-align: center\; color: rgb(51\, 51\, 
 51)\; font-size: 14px\; caret-color: rgb(51\, 51\, 51)\; -webkit-tap-highl
 ight-color: rgba(0\, 0\, 0\, 0)\; text-size-adjust: 100%\; line-height: 1.
 656\;"><span style="font-size: 11.5pt\; font-family: Arial\; color: rgb(32
 \, 31\, 30)\; font-variant-numeric: normal\; font-variant-east-asian: norm
 al\; vertical-align: baseline\;"><br></span></p><p dir="ltr" style="margin
 : 0pt 0px\; font-family: Abel\, sans-serif\; text-align: center\; color: r
 gb(51\, 51\, 51)\; font-size: 14px\; caret-color: rgb(51\, 51\, 51)\; -web
 kit-tap-highlight-color: rgba(0\, 0\, 0\, 0)\; text-size-adjust: 100%\; li
 ne-height: 1.656\;"><span style="font-size: 11.5pt\; font-family: Arial\; 
 color: rgb(32\, 31\, 30)\; font-variant-numeric: normal\; font-variant-eas
 t-asian: normal\; vertical-align: baseline\;">Entradas anticipadas:<br><br
 ></span></p><p dir="ltr" style="margin: 0pt 0px\; font-family: Abel\, sans
 -serif\; text-align: center\; color: rgb(51\, 51\, 51)\; font-size: 14px\;
  caret-color: rgb(51\, 51\, 51)\; -webkit-tap-highlight-color: rgba(0\, 0\
 , 0\, 0)\; text-size-adjust: 100%\; line-height: 1.656\;"><u style="color:
  rgb(34\, 34\, 34)\; font-family: Arial\; font-size: 14.6667px\;">POR SIST
 EMA:<br></u><span style="font-weight: 700\; color: rgb(34\, 34\, 34)\; fon
 t-family: Arial\; font-size: 11pt\;">(Todos los medios de pago)</span></p>
 <p dir="ltr" style="margin: 0pt 0px\; font-family: Abel\, sans-serif\; tex
 t-align: center\; color: rgb(51\, 51\, 51)\; font-size: 14px\; caret-color
 : rgb(51\, 51\, 51)\; -webkit-tap-highlight-color: rgba(0\, 0\, 0\, 0)\; t
 ext-size-adjust: 100%\; line-height: 1.656\;"><span style="font-weight: 70
 0\; color: rgb(34\, 34\, 34)\; font-family: Arial\; font-size: 11pt\;"><br
 ></span></p><p dir="ltr" style="margin: 0pt 0px\; font-family: Abel\, sans
 -serif\; text-align: center\; color: rgb(51\, 51\, 51)\; font-size: 14px\;
  caret-color: rgb(51\, 51\, 51)\; -webkit-tap-highlight-color: rgba(0\, 0\
 , 0\, 0)\; text-size-adjust: 100%\; line-height: 1.656\;"><font color="#22
 2222" face="Arial"><span style="font-size: 14.6667px\;"><u>Efectivo en:</u
 ></span></font></p><p dir="ltr" style="margin: 0pt 0px\; font-family: Abel
 \, sans-serif\; text-align: center\; color: rgb(51\, 51\, 51)\; font-size:
  14px\; caret-color: rgb(51\, 51\, 51)\; -webkit-tap-highlight-color: rgba
 (0\, 0\, 0\, 0)\; text-size-adjust: 100%\; line-height: 1.656\;"><span sty
 le="font-size: 11.5pt\; font-family: Arial\; color: rgb(32\, 31\, 30)\; fo
 nt-weight: 700\; font-variant-numeric: normal\; font-variant-east-asian: n
 ormal\; vertical-align: baseline\;">TecnoCentro:</span><span style="font-s
 ize: 11.5pt\; font-family: Arial\; color: rgb(32\, 31\, 30)\; font-variant
 -numeric: normal\; font-variant-east-asian: normal\; vertical-align: basel
 ine\;">&nbsp\;Rivadavia 3065 -&nbsp\;<span style="font-weight: 700\;">Olav
 arria</span></span></p><div style="text-align: center\; -webkit-tap-highli
 ght-color: rgba(0\, 0\, 0\, 0)\; text-size-adjust: 100%\; font-family: Ari
 al\, Helvetica\, sans-serif\; font-size: small\; color: rgb(33\, 33\, 33)\
 ;"><i><br></i></div><p dir="ltr" style="margin: 0pt 0px\; font-family: Abe
 l\, sans-serif\; text-align: center\; color: rgb(51\, 51\, 51)\; font-size
 : 14px\; caret-color: rgb(51\, 51\, 51)\; -webkit-tap-highlight-color: rgb
 a(0\, 0\, 0\, 0)\; text-size-adjust: 100%\; line-height: 1.656\;"><span st
 yle="font-size: 11pt\; font-family: Arial\; color: rgb(34\, 34\, 34)\; fon
 t-variant-numeric: normal\; font-variant-east-asian: normal\; vertical-ali
 gn: baseline\;"><span style="font-weight: 700\;"><u>Entradas de Discapacid
 ad</u></span></span></p><p dir="ltr" style="margin: 0pt 0px\; font-family:
  Abel\, sans-serif\; text-align: center\; color: rgb(51\, 51\, 51)\; font-
 size: 14px\; caret-color: rgb(51\, 51\, 51)\; -webkit-tap-highlight-color:
  rgba(0\, 0\, 0\, 0)\; text-size-adjust: 100%\; line-height: 1.656\;"><spa
 n style="font-size: 11pt\; font-family: Arial\; color: rgb(34\, 34\, 34)\;
  font-variant-numeric: normal\; font-variant-east-asian: normal\; vertical
 -align: baseline\;"></span></p><p dir="ltr" style="margin: 0pt 0px\; font-
 family: Abel\, sans-serif\; text-align: center\; color: rgb(51\, 51\, 51)\
 ; font-size: 14px\; line-height: 1.656\;"><span style="font-size: 11pt\; f
 ont-family: Arial\; color: rgb(34\, 34\, 34)\; font-variant-numeric: norma
 l\; font-variant-east-asian: normal\; vertical-align: baseline\;">Para sol
 icitar entradas de discapacidad por favor&nbsp\;dirigirse a la&nbsp\;<span
  style="font-weight: bolder\;">Boletería del Teatro</span>&nbsp\;de&nbsp\
 ;<span style="font-weight: bolder\;">Lunes a viernes de 8:30 a 16hs.</span
 ></span></p><p style="margin: 0pt 0px\; text-align: center\; color: rgb(34
 \, 34\, 34)\; font-family: Arial\, Helvetica\, sans-serif\; font-size: sma
 ll\; line-height: 1.656\;"><font face="Arial" color="#ffffff"><span style=
 "font-size: 14.6667px\; background-color: rgb(103\, 78\, 167)\;"><span sty
 le="font-weight: bolder\;">Las entradas se podrán&nbsp\;solicitar a parti
 r del 1er día hábil del mes corriente del evento.</span></span></font></
 p><p dir="ltr" style="margin: 0pt 0px\; font-family: Abel\, sans-serif\; t
 ext-align: center\; color: rgb(51\, 51\, 51)\; font-size: 14px\; caret-col
 or: rgb(51\, 51\, 51)\; -webkit-tap-highlight-color: rgba(0\, 0\, 0\, 0)\;
  text-size-adjust: 100%\; line-height: 1.656\;"><span style="font-size: 11
 pt\; font-family: Arial\; color: rgb(34\, 34\, 34)\; font-variant-numeric:
  normal\; font-variant-east-asian: normal\; vertical-align: baseline\;"><b
 r></span></p><p dir="ltr" style="margin: 0pt 0px\; font-family: Abel\, san
 s-serif\; text-align: center\; color: rgb(51\, 51\, 51)\; font-size: 14px\
 ; caret-color: rgb(51\, 51\, 51)\; -webkit-tap-highlight-color: rgba(0\, 0
 \, 0\, 0)\; text-size-adjust: 100%\; line-height: 1.38\;"><a href="http://
 www.articket.com.ar/" style="color: rgb(51\, 122\, 183)\;"><span style="fo
 nt-size: 11.5pt\; font-family: Arial\; color: rgb(17\, 85\, 204)\; font-va
 riant-numeric: normal\; font-variant-east-asian: normal\; text-decoration-
 line: underline\; text-decoration-skip-ink: none\; vertical-align: baselin
 e\;">www.articket.com.ar</span></a></p><p style="font-family: Abel\, sans-
 serif\; text-align: center\;"><br style="color: rgb(51\, 51\, 51)\; font-s
 ize: 14px\; caret-color: rgb(51\, 51\, 51)\; -webkit-tap-highlight-color: 
 rgba(0\, 0\, 0\, 0)\; text-size-adjust: 100%\;"></p><p dir="ltr" style="ma
 rgin: 0pt 0px\; font-family: Abel\, sans-serif\; text-align: center\; colo
 r: rgb(51\, 51\, 51)\; font-size: 14px\; caret-color: rgb(51\, 51\, 51)\; 
 -webkit-tap-highlight-color: rgba(0\, 0\, 0\, 0)\; text-size-adjust: 100%\
 ; line-height: 1.38\;"><span style="font-size: 11pt\; font-family: Arial\;
  color: rgb(34\, 34\, 34)\; font-weight: 700\; font-variant-numeric: norma
 l\; font-variant-east-asian: normal\; vertical-align: baseline\;">APTO TOD
 O PUBLICO</span></p><p dir="ltr" style="margin: 0pt 0px\; font-family: Abe
 l\, sans-serif\; text-align: center\; color: rgb(51\, 51\, 51)\; font-size
 : 14px\; caret-color: rgb(51\, 51\, 51)\; -webkit-tap-highlight-color: rgb
 a(0\, 0\, 0\, 0)\; text-size-adjust: 100%\; line-height: 1.38\;"><span sty
 le="font-size: 11pt\; font-family: Arial\; color: rgb(34\, 34\, 34)\; font
 -weight: 700\; font-variant-numeric: normal\; font-variant-east-asian: nor
 mal\; vertical-align: baseline\;"><br></span></p><p dir="ltr" style="margi
 n: 0pt 0px\; font-family: Abel\, sans-serif\; text-align: center\; color: 
 rgb(51\, 51\, 51)\; font-size: 14px\; caret-color: rgb(51\, 51\, 51)\; -we
 bkit-tap-highlight-color: rgba(0\, 0\, 0\, 0)\; text-size-adjust: 100%\; l
 ine-height: 1.38\;"><span style="font-size: 11pt\; font-family: Arial\; co
 lor: rgb(34\, 34\, 34)\; font-weight: 700\; font-variant-numeric: normal\;
  font-variant-east-asian: normal\; vertical-align: baseline\;">---</span><
 /p><p dir="ltr" style="margin: 0pt 0px\; font-family: Abel\, sans-serif\; 
 text-align: center\; color: rgb(51\, 51\, 51)\; font-size: 14px\; caret-co
 lor: rgb(51\, 51\, 51)\; -webkit-tap-highlight-color: rgba(0\, 0\, 0\, 0)\
 ; text-size-adjust: 100%\; line-height: 1.38\;"><br></p><p dir="ltr" style
 ="margin: 0pt 0px\; text-align: center\; -webkit-tap-highlight-color: rgba
 (0\, 0\, 0\, 0)\; text-size-adjust: 100%\; line-height: 1.38\;"><font colo
 r="#333333" face="Abel\, sans-serif"><span style="font-size: 14px\; caret-
 color: rgb(51\, 51\, 51)\;">Un espectáculo único que combina la potencia
  del Lírico Pop con la emoción del cine.</span></font></p><p dir="ltr" s
 tyle="margin: 0pt 0px\; text-align: center\; -webkit-tap-highlight-color: 
 rgba(0\, 0\, 0\, 0)\; text-size-adjust: 100%\; line-height: 1.38\;"><font 
 color="#333333" face="Abel\, sans-serif"><span style="font-size: 14px\; ca
 ret-color: rgb(51\, 51\, 51)\;">A través de una puesta en escena innovado
 ra y cautivante\, el show transporta al</span></font></p><p dir="ltr" styl
 e="margin: 0pt 0px\; text-align: center\; -webkit-tap-highlight-color: rgb
 a(0\, 0\, 0\, 0)\; text-size-adjust: 100%\; line-height: 1.38\;"><font col
 or="#333333" face="Abel\, sans-serif"><span style="font-size: 14px\; caret
 -color: rgb(51\, 51\, 51)\;">público a los momentos más icónicos del S
 éptimo Arte. En esta nueva propuesta</span></font></p><p dir="ltr" style=
 "margin: 0pt 0px\; text-align: center\; -webkit-tap-highlight-color: rgba(
 0\, 0\, 0\, 0)\; text-size-adjust: 100%\; line-height: 1.38\;"><font color
 ="#333333" face="Abel\, sans-serif"><span style="font-size: 14px\; caret-c
 olor: rgb(51\, 51\, 51)\;">podrán disfrutar de temas o imágenes de Casab
 lanca\, Cinema Paradiso\, El Padrino\,</span></font></p><p dir="ltr" style
 ="margin: 0pt 0px\; text-align: center\; -webkit-tap-highlight-color: rgba
 (0\, 0\, 0\, 0)\; text-size-adjust: 100%\; line-height: 1.38\;"><font colo
 r="#333333" face="Abel\, sans-serif"><span style="font-size: 14px\; caret-
 color: rgb(51\, 51\, 51)\;">Cantando Bajo la Lluvia\, Il Postino\, Mujer B
 onita\, El Fantasma de la Ópera\, Titanic y</span></font></p><p dir="ltr"
  style="margin: 0pt 0px\; text-align: center\; -webkit-tap-highlight-color
 : rgba(0\, 0\, 0\, 0)\; text-size-adjust: 100%\; line-height: 1.38\;"><fon
 t color="#333333" face="Abel\, sans-serif"><span style="font-size: 14px\; 
 caret-color: rgb(51\, 51\, 51)\;">muchos éxitos más.</span></font></p><p
  dir="ltr" style="margin: 0pt 0px\; text-align: center\; -webkit-tap-highl
 ight-color: rgba(0\, 0\, 0\, 0)\; text-size-adjust: 100%\; line-height: 1.
 38\;"><font color="#333333" face="Abel\, sans-serif"><span style="font-siz
 e: 14px\; caret-color: rgb(51\, 51\, 51)\;">Una vez más la impronta del t
 río\, con ya más de 10 años de trayectoria\, despierta</span></font></p
 ><p dir="ltr" style="margin: 0pt 0px\; text-align: center\; -webkit-tap-hi
 ghlight-color: rgba(0\, 0\, 0\, 0)\; text-size-adjust: 100%\; line-height:
  1.38\;"><font color="#333333" face="Abel\, sans-serif"><span style="font-
 size: 14px\; caret-color: rgb(51\, 51\, 51)\;">recuerdos\, risas\, lágrim
 as y esperanza. El humor\, la interacción con el público y la</span></fo
 nt></p><p dir="ltr" style="margin: 0pt 0px\; text-align: center\; -webkit-
 tap-highlight-color: rgba(0\, 0\, 0\, 0)\; text-size-adjust: 100%\; line-h
 eight: 1.38\;"><font color="#333333" face="Abel\, sans-serif"><span style=
 "font-size: 14px\; caret-color: rgb(51\, 51\, 51)\;">creación de momentos
  únicos\, harán revivir las historias que acompañaron nuestras</span></
 font></p><p dir="ltr" style="margin: 0pt 0px\; text-align: center\; -webki
 t-tap-highlight-color: rgba(0\, 0\, 0\, 0)\; text-size-adjust: 100%\; line
 -height: 1.38\;"><font color="#333333" face="Abel\, sans-serif"><span styl
 e="font-size: 14px\; caret-color: rgb(51\, 51\, 51)\;">vidas.</span></font
 ></p><p dir="ltr" style="margin: 0pt 0px\; text-align: center\; -webkit-ta
 p-highlight-color: rgba(0\, 0\, 0\, 0)\; text-size-adjust: 100%\; line-hei
 ght: 1.38\;"><font color="#333333" face="Abel\, sans-serif"><span style="f
 ont-size: 14px\; caret-color: rgb(51\, 51\, 51)\;">Federico Picone. Barít
 ono – Brillante.</span></font></p><p dir="ltr" style="margin: 0pt 0px\; 
 text-align: center\; -webkit-tap-highlight-color: rgba(0\, 0\, 0\, 0)\; te
 xt-size-adjust: 100%\; line-height: 1.38\;"><font color="#333333" face="Ab
 el\, sans-serif"><span style="font-size: 14px\; caret-color: rgb(51\, 51\,
  51)\;">Alejandro Falcone. Tenor Lírico – Spinto.</span></font></p><p d
 ir="ltr" style="margin: 0pt 0px\; text-align: center\; -webkit-tap-highlig
 ht-color: rgba(0\, 0\, 0\, 0)\; text-size-adjust: 100%\; line-height: 1.38
 \;"><span style="font-size: 14px\; caret-color: rgb(51\, 51\, 51)\; color:
  rgb(51\, 51\, 51)\; font-family: Abel\, sans-serif\;">&nbsp\;Sebastián R
 usso. Tenor Lirico – Ligero.</span></p><p dir="ltr" style="margin: 0pt 0
 px\; text-align: center\; -webkit-tap-highlight-color: rgba(0\, 0\, 0\, 0)
 \; text-size-adjust: 100%\; line-height: 1.38\;"><font color="#333333" fac
 e="Abel\, sans-serif"><span style="font-size: 14px\; caret-color: rgb(51\,
  51\, 51)\;">Acompañados por Banda conformada por teclado\, batería y gu
 itarra.</span></font></p><p dir="ltr" style="margin: 0pt 0px\; text-align:
  center\; -webkit-tap-highlight-color: rgba(0\, 0\, 0\, 0)\; text-size-adj
 ust: 100%\; line-height: 1.38\;"><font color="#333333" face="Abel\, sans-s
 erif"><span style="font-size: 14px\; caret-color: rgb(51\, 51\, 51)\;">Pro
 ducen: Imaginarium Contenidos y Héroe Lírico Pop.</span></font></p><p di
 r="ltr" style="margin: 0pt 0px\; text-align: center\; -webkit-tap-highligh
 t-color: rgba(0\, 0\, 0\, 0)\; text-size-adjust: 100%\; line-height: 1.38\
 ;"><font color="#333333" face="Abel\, sans-serif"><span style="font-size: 
 14px\; caret-color: rgb(51\, 51\, 51)\;">Duración: 1.40 min.</span></font
 ></p><p dir="ltr" style="margin: 0pt 0px\; text-align: center\; -webkit-ta
 p-highlight-color: rgba(0\, 0\, 0\, 0)\; text-size-adjust: 100%\; line-hei
 ght: 1.38\;"><font color="#222222" face="Arial"><span style="font-size: 14
 .6667px\; caret-color: rgb(51\, 51\, 51)\;"><span style="font-weight: bold
 er\;"><br></span></span></font></p><p dir="ltr" style="margin: 0pt 0px\; t
 ext-align: center\; line-height: 1.38\;"><font face="Abel\, sans-serif" co
 lor="#9c9c94"><span style="font-size: 12px\;">PROMO BANCO PROVINCIA CONDIC
 IONES:&nbsp\;<a href="https://tr.ee/89uSGj" target="_blank">https://tr.ee/
 89uSGj</a></span></font></p><p dir="ltr" style="margin: 0pt 0px\; text-ali
 gn: center\; line-height: 1.38\;"><br></p>
END:VEVENT
END:VCALENDAR
