BEGIN:VCALENDAR
VERSION:2.0
PRODID:-//My Calendar//mxm.dk//
BEGIN:VEVENT
SUMMARY:CELEBRAMOS TU DIA - SHOW DE LOS MOTORBAND - ALTA GAMA -  TRIBUTO A
  ANTONIO RIOS
DTSTART:20260502T000000Z
DTEND:20260502T040000Z
DTSTAMP:20260424T124450Z
DESCRIPTION:<h2 style="text-align: center\;"><font color="#000000" face="N
 unito\, -apple-system\, BlinkMacSystemFont\, Segoe UI\, Roboto\, Helvetica
  Neue\, Arial\, sans-serif\, Apple Color Emoji\, Segoe UI Emoji\, Segoe UI
  Symbol\, Noto Color Emoji"><u style=""><b>CELEBRAMOS TU DIA&nbsp\;</b></u
 ></font></h2><h2 style="text-align: center\;"><font color="#000000" face="
 Nunito\, -apple-system\, BlinkMacSystemFont\, Segoe UI\, Roboto\, Helvetic
 a Neue\, Arial\, sans-serif\, Apple Color Emoji\, Segoe UI Emoji\, Segoe U
 I Symbol\, Noto Color Emoji"><u style=""><b> SHOW DE LOS MOTORBAND - ALTA 
 GAMA -&nbsp\; TRIBUTO A ANTONIO RIOS</b></u></font></h2><h2 style="text-al
 ign: center\;"><u><b>EN ABBEYROAD</b></u></h2><p style="text-align: center
 \;"><span style="color: rgb(32\, 31\, 30)\; font-family: Arial\; font-size
 : 11.5pt\;">Entradas anticipadas limitadas en efectivo:</span></p><p dir="
 ltr" style="margin: 0pt 0px\; font-family: Abel\, sans-serif\; text-align:
  center\; text-size-adjust: 100%\; color: rgb(51\, 51\, 51)\; font-size: 1
 4px\; line-height: 1.656\;"><span style="font-size: 11pt\; font-family: Ar
 ial\; color: rgb(34\, 34\, 34)\; font-variant-numeric: normal\; font-varia
 nt-east-asian: normal\; vertical-align: baseline\;">&nbsp\;</span></p><p d
 ir="ltr" style="margin: 0pt 0px\; font-family: Abel\, sans-serif\; text-al
 ign: center\; text-size-adjust: 100%\; color: rgb(51\, 51\, 51)\; font-siz
 e: 14px\; line-height: 1.656\;"><span style="font-size: 11.5pt\; font-fami
 ly: Arial\; color: rgb(32\, 31\, 30)\; font-weight: 700\; font-variant-num
 eric: normal\; font-variant-east-asian: normal\; vertical-align: baseline\
 ;">La Casa de las Guitarras:</span><span style="font-size: 11.5pt\; font-f
 amily: Arial\; color: rgb(32\, 31\, 30)\; font-variant-numeric: normal\; f
 ont-variant-east-asian: normal\; vertical-align: baseline\;">&nbsp\;Belgra
 no 3420 - Mar del Plata</span></p><p dir="ltr" style="margin: 0pt 0px\; fo
 nt-family: Abel\, sans-serif\; text-align: center\; color: rgb(51\, 51\, 5
 1)\; font-size: 14px\; line-height: 1.656\;"><span style="font-size: 11.5p
 t\; font-family: Arial\; color: rgb(32\, 31\, 30)\; background-color: tran
 sparent\; font-variant-numeric: normal\; font-variant-east-asian: normal\;
  vertical-align: baseline\; white-space-collapse: preserve\;"><span style=
 "font-weight: bolder\;">FAVA Casa Central:</span></span><span style="font-
 size: 11.5pt\; font-family: Arial\; color: rgb(32\, 31\, 30)\; background-
 color: transparent\; font-weight: 700\; font-variant-numeric: normal\; fon
 t-variant-east-asian: normal\; vertical-align: baseline\; white-space-coll
 apse: preserve\;"> </span><span style="font-size: 11.5pt\; font-family: Ar
 ial\; color: rgb(32\, 31\, 30)\; background-color: transparent\; font-vari
 ant-numeric: normal\; font-variant-east-asian: normal\; vertical-align: ba
 seline\; white-space-collapse: preserve\;">Av. Pedro Luro 3247 - Mar del P
 lata</span></p><p dir="ltr" style="margin: 0pt 0px\; font-family: Abel\, s
 ans-serif\; text-align: center\; text-size-adjust: 100%\; color: rgb(51\, 
 51\, 51)\; font-size: 14px\; line-height: 1.656\;"><br></p><p dir="ltr" st
 yle="margin: 0pt 0px\; font-family: Abel\, sans-serif\; text-align: center
 \; text-size-adjust: 100%\; color: rgb(51\, 51\, 51)\; font-size: 14px\; l
 ine-height: 1.38\;"><a href="http://www.articket.com.ar/" style="color: rg
 b(51\, 122\, 183)\;"><span style="font-size: 11.5pt\; font-family: Arial\;
  color: rgb(17\, 85\, 204)\; font-variant-numeric: normal\; font-variant-e
 ast-asian: normal\; text-decoration-line: underline\; text-decoration-skip
 -ink: none\; vertical-align: baseline\;">www.articket.com.ar</span></a></p
 ><p dir="ltr" style="margin: 0pt 0px\; font-family: Abel\, sans-serif\; te
 xt-align: center\; text-size-adjust: 100%\; color: rgb(51\, 51\, 51)\; fon
 t-size: 14px\; line-height: 1.656\;"><br></p><p dir="ltr" style="margin: 0
 pt 0px\; font-family: Abel\, sans-serif\; text-align: center\; text-size-a
 djust: 100%\; color: rgb(51\, 51\, 51)\; font-size: 14px\; line-height: 1.
 38\;"><span style="caret-color: rgb(34\, 34\, 34)\; color: rgb(34\, 34\, 3
 4)\; font-family: Arial\; font-size: 14.6667px\; white-space-collapse: pre
 serve\;"><span style="font-weight: bolder\;">APTO +14 (hasta 00hs)</span><
 /span></p><p dir="ltr" style="margin: 0pt 0px\; font-family: Abel\, sans-s
 erif\; text-align: center\; text-size-adjust: 100%\; color: rgb(51\, 51\, 
 51)\; font-size: 14px\; line-height: 1.38\;"><span style="caret-color: rgb
 (34\, 34\, 34)\; color: rgb(34\, 34\, 34)\; font-family: Arial\; font-size
 : 14.6667px\; white-space-collapse: preserve\;"><span style="font-weight: 
 bolder\;"><br></span></span></p><p dir="ltr" style="margin: 0pt 0px\; font
 -family: Abel\, sans-serif\; text-align: center\; text-size-adjust: 100%\;
  color: rgb(51\, 51\, 51)\; font-size: 14px\; line-height: 1.38\;"><span s
 tyle="caret-color: rgb(34\, 34\, 34)\; color: rgb(34\, 34\, 34)\; font-fam
 ily: Arial\; font-size: 14.6667px\; white-space-collapse: preserve\;"><spa
 n style="font-weight: bolder\;"><br></span></span></p><p dir="ltr" style="
 margin: 0pt 0px\; text-align: center\; line-height: 1.38\;"><font face="Ab
 el\, sans-serif" color="#9c9c94"><span style="font-size: 12px\;">PROMO BAN
 CO PROVINCIA CONDICIONES:&nbsp\;<a href="https://tr.ee/89uSGj" target="_bl
 ank">https://tr.ee/89uSGj</a></span></font></p><p dir="ltr" style="margin:
  0pt 0px\; text-align: center\; line-height: 1.38\;"><br style="font-famil
 y: Abel\, sans-serif\;"></p>
END:VEVENT
END:VCALENDAR
