BEGIN:VCALENDAR
VERSION:2.0
PRODID:-//My Calendar//mxm.dk//
BEGIN:VEVENT
SUMMARY:PLAN CUATRO EN ABBEY ROAD
DTSTART:20260620T000000Z
DTEND:20260620T030000Z
DTSTAMP:20260424T124634Z
DESCRIPTION:<h2 style="text-align: center\;"><font color="#000000" face="N
 unito\, -apple-system\, BlinkMacSystemFont\, Segoe UI\, Roboto\, Helvetica
  Neue\, Arial\, sans-serif\, Apple Color Emoji\, Segoe UI Emoji\, Segoe UI
  Symbol\, Noto Color Emoji"><b><u>PLAN CUATRO-&nbsp\;</u></b></font><u sty
 le="font-size: 2rem\;"><span style="font-weight: bolder\;">EN ABBEY ROAD</
 span></u></h2><h2 style="text-align: center\;"><span style="color: rgb(34\
 , 34\, 34)\; font-family: Arial\, Helvetica\, sans-serif\; font-size: 18px
 \; text-align: start\;"><b>Invitados Carnicero de Jiles y Moriture</b></sp
 an></h2><h2 style="text-align: center\;"><span style="color: rgb(34\, 34\,
  34)\; font-family: Arial\, Helvetica\, sans-serif\; font-size: 18px\; tex
 t-align: start\;"><b><br></b></span><u style="font-size: 2rem\;"><span sty
 le="font-weight: bolder\;"></span></u></h2><p style="text-align: center\;"
 ><span style="color: rgb(32\, 31\, 30)\; font-family: Arial\; font-size: 1
 1.5pt\;">Entradas anticipadas limitadas en efectivo:</span></p><p dir="ltr
 " style="margin: 0pt 0px\; font-family: Abel\, sans-serif\; text-align: ce
 nter\; text-size-adjust: 100%\; color: rgb(51\, 51\, 51)\; font-size: 14px
 \; line-height: 1.656\;"><span style="font-size: 11pt\; font-family: Arial
 \; color: rgb(34\, 34\, 34)\; font-variant-numeric: normal\; font-variant-
 east-asian: normal\; vertical-align: baseline\;">&nbsp\;</span></p><p dir=
 "ltr" style="margin: 0pt 0px\; font-family: Abel\, sans-serif\; text-align
 : center\; text-size-adjust: 100%\; color: rgb(51\, 51\, 51)\; font-size: 
 14px\; line-height: 1.656\;"><span style="font-size: 11.5pt\; font-family:
  Arial\; color: rgb(32\, 31\, 30)\; font-weight: 700\; font-variant-numeri
 c: normal\; font-variant-east-asian: normal\; vertical-align: baseline\;">
 La Casa de las Guitarras:</span><span style="font-size: 11.5pt\; font-fami
 ly: Arial\; color: rgb(32\, 31\, 30)\; font-variant-numeric: normal\; font
 -variant-east-asian: normal\; vertical-align: baseline\;">&nbsp\;Belgrano 
 3420 - Mar del Plata</span></p><p dir="ltr" style="margin: 0pt 0px\; font-
 family: Abel\, sans-serif\; text-align: center\; color: rgb(51\, 51\, 51)\
 ; font-size: 14px\; line-height: 1.656\;"><span style="font-size: 11.5pt\;
  font-family: Arial\; color: rgb(32\, 31\, 30)\; background-color: transpa
 rent\; font-variant-numeric: normal\; font-variant-east-asian: normal\; ve
 rtical-align: baseline\; white-space-collapse: preserve\;"><span style="fo
 nt-weight: bolder\;">FAVA Casa Central:</span></span><span style="font-siz
 e: 11.5pt\; font-family: Arial\; color: rgb(32\, 31\, 30)\; background-col
 or: transparent\; font-weight: 700\; font-variant-numeric: normal\; font-v
 ariant-east-asian: normal\; vertical-align: baseline\; white-space-collaps
 e: preserve\;"> </span><span style="font-size: 11.5pt\; font-family: Arial
 \; color: rgb(32\, 31\, 30)\; background-color: transparent\; font-variant
 -numeric: normal\; font-variant-east-asian: normal\; vertical-align: basel
 ine\; white-space-collapse: preserve\;">Av. Pedro Luro 3247 - Mar del Plat
 a</span></p><p dir="ltr" style="margin: 0pt 0px\; font-family: Abel\, sans
 -serif\; text-align: center\; text-size-adjust: 100%\; color: rgb(51\, 51\
 , 51)\; font-size: 14px\; line-height: 1.656\;"><br></p><p dir="ltr" style
 ="margin: 0pt 0px\; font-family: Abel\, sans-serif\; text-align: center\; 
 text-size-adjust: 100%\; color: rgb(51\, 51\, 51)\; font-size: 14px\; line
 -height: 1.38\;"><a href="http://www.articket.com.ar/" style="color: rgb(5
 1\, 122\, 183)\;"><span style="font-size: 11.5pt\; font-family: Arial\; co
 lor: rgb(17\, 85\, 204)\; font-variant-numeric: normal\; font-variant-east
 -asian: normal\; text-decoration-line: underline\; text-decoration-skip-in
 k: none\; vertical-align: baseline\;">www.articket.com.ar</span></a></p><p
  dir="ltr" style="margin: 0pt 0px\; font-family: Abel\, sans-serif\; text-
 align: center\; text-size-adjust: 100%\; color: rgb(51\, 51\, 51)\; font-s
 ize: 14px\; line-height: 1.656\;"><br></p><p dir="ltr" style="margin: 0pt 
 0px\; font-family: Abel\, sans-serif\; text-align: center\; text-size-adju
 st: 100%\; color: rgb(51\, 51\, 51)\; font-size: 14px\; line-height: 1.38\
 ;"><span style="caret-color: rgb(34\, 34\, 34)\; color: rgb(34\, 34\, 34)\
 ; font-family: Arial\; font-size: 14.6667px\; white-space-collapse: preser
 ve\;"><span style="font-weight: bolder\;">APTO +14 (hasta 00hs)</span></sp
 an></p><p dir="ltr" style="margin: 0pt 0px\; font-family: Abel\, sans-seri
 f\; text-align: center\; text-size-adjust: 100%\; color: rgb(51\, 51\, 51)
 \; font-size: 14px\; line-height: 1.38\;"><span style="caret-color: rgb(34
 \, 34\, 34)\; color: rgb(34\, 34\, 34)\; font-family: Arial\; font-size: 1
 4.6667px\; white-space-collapse: preserve\;"><span style="font-weight: bol
 der\;"><br></span></span></p><p dir="ltr" style="margin: 0pt 0px\; font-fa
 mily: Abel\, sans-serif\; text-align: center\; text-size-adjust: 100%\; co
 lor: rgb(51\, 51\, 51)\; font-size: 14px\; line-height: 1.38\;"><span styl
 e="caret-color: rgb(34\, 34\, 34)\; color: rgb(34\, 34\, 34)\; font-family
 : Arial\; font-size: 14.6667px\; white-space-collapse: preserve\;"><span s
 tyle="font-weight: bolder\;"><br></span></span></p><p dir="ltr" style="mar
 gin: 0pt 0px\; text-align: center\; line-height: 1.38\;"><font face="Abel\
 , sans-serif" color="#9c9c94"><span style="font-size: 12px\;">PROMO BANCO 
 PROVINCIA CONDICIONES:&nbsp\;<a href="https://tr.ee/89uSGj" target="_blank
 ">https://tr.ee/89uSGj</a></span></font></p>
END:VEVENT
END:VCALENDAR
