BEGIN:VCALENDAR
VERSION:2.0
PRODID:-//My Calendar//mxm.dk//
BEGIN:VEVENT
SUMMARY:THE GAME DR QUEEN EN ABBEY ROAD
DTSTART:20260531T000000Z
DTEND:20260531T080000Z
DTSTAMP:20260424T124331Z
DESCRIPTION:<h2 style="color: rgb(0\, 0\, 0)\; font-family: Nunito\, -appl
 e-system\, BlinkMacSystemFont\, &quot\;Segoe UI&quot\;\, Roboto\, &quot\;H
 elvetica Neue&quot\;\, Arial\, sans-serif\, &quot\;Apple Color Emoji&quot\
 ;\, &quot\;Segoe UI Emoji&quot\;\, &quot\;Segoe UI Symbol&quot\;\, &quot\;
 Noto Color Emoji&quot\;\; text-align: center\;"><b><u>THE GAME DR QUEEN</u
 ></b></h2><h2 style="color: rgb(0\, 0\, 0)\; font-family: Nunito\, -apple-
 system\, BlinkMacSystemFont\, &quot\;Segoe UI&quot\;\, Roboto\, &quot\;Hel
 vetica Neue&quot\;\, Arial\, sans-serif\, &quot\;Apple Color Emoji&quot\;\
 , &quot\;Segoe UI Emoji&quot\;\, &quot\;Segoe UI Symbol&quot\;\, &quot\;No
 to Color Emoji&quot\;\; text-align: center\;"><b><u>EN ABBEY ROAD</u></b><
 /h2><h2 style="color: rgb(0\, 0\, 0)\; font-family: Nunito\, -apple-system
 \, BlinkMacSystemFont\, &quot\;Segoe UI&quot\;\, Roboto\, &quot\;Helvetica
  Neue&quot\;\, Arial\, sans-serif\, &quot\;Apple Color Emoji&quot\;\, &quo
 t\;Segoe UI Emoji&quot\;\, &quot\;Segoe UI Symbol&quot\;\, &quot\;Noto Col
 or Emoji&quot\;\; text-align: center\;"><u><span style="font-weight: bolde
 r\;"><br></span></u></h2><p style="text-align: center\;"><span style="colo
 r: rgb(32\, 31\, 30)\; font-family: Arial\; font-size: 11.5pt\;">Entradas 
 anticipadas limitadas en efectivo:</span></p><p dir="ltr" style="margin: 0
 pt 0px\; font-family: Abel\, sans-serif\; text-align: center\; text-size-a
 djust: 100%\; color: rgb(51\, 51\, 51)\; font-size: 14px\; line-height: 1.
 656\;"><span style="font-size: 11pt\; font-family: Arial\; color: rgb(34\,
  34\, 34)\; font-variant-numeric: normal\; font-variant-east-asian: normal
 \; vertical-align: baseline\;">&nbsp\;</span></p><p dir="ltr" style="margi
 n: 0pt 0px\; font-family: Abel\, sans-serif\; text-align: center\; text-si
 ze-adjust: 100%\; color: rgb(51\, 51\, 51)\; font-size: 14px\; line-height
 : 1.656\;"><span style="font-size: 11.5pt\; font-family: Arial\; color: rg
 b(32\, 31\, 30)\; font-weight: 700\; font-variant-numeric: normal\; font-v
 ariant-east-asian: normal\; vertical-align: baseline\;">La Casa de las Gui
 tarras:</span><span style="font-size: 11.5pt\; font-family: Arial\; color:
  rgb(32\, 31\, 30)\; font-variant-numeric: normal\; font-variant-east-asia
 n: normal\; vertical-align: baseline\;">&nbsp\;Belgrano 3420 - Mar del Pla
 ta</span></p><p dir="ltr" style="margin: 0pt 0px\; font-family: Abel\, san
 s-serif\; text-align: center\; color: rgb(51\, 51\, 51)\; font-size: 14px\
 ; line-height: 1.656\;"><span style="font-size: 11.5pt\; font-family: Aria
 l\; color: rgb(32\, 31\, 30)\; background-color: transparent\; font-varian
 t-numeric: normal\; font-variant-east-asian: normal\; vertical-align: base
 line\; white-space-collapse: preserve\;"><span style="font-weight: bolder\
 ;">FAVA Casa Central:</span></span><span style="font-size: 11.5pt\; font-f
 amily: Arial\; color: rgb(32\, 31\, 30)\; background-color: transparent\; 
 font-weight: 700\; font-variant-numeric: normal\; font-variant-east-asian:
  normal\; vertical-align: baseline\; white-space-collapse: preserve\;"> </
 span><span style="font-size: 11.5pt\; font-family: Arial\; color: rgb(32\,
  31\, 30)\; background-color: transparent\; font-variant-numeric: normal\;
  font-variant-east-asian: normal\; vertical-align: baseline\; white-space-
 collapse: preserve\;">Av. Pedro Luro 3247 - Mar del Plata</span></p><p dir
 ="ltr" style="margin: 0pt 0px\; font-family: Abel\, sans-serif\; text-alig
 n: center\; text-size-adjust: 100%\; color: rgb(51\, 51\, 51)\; font-size:
  14px\; line-height: 1.656\;"><br></p><p dir="ltr" style="margin: 0pt 0px\
 ; font-family: Abel\, sans-serif\; text-align: center\; text-size-adjust: 
 100%\; color: rgb(51\, 51\, 51)\; font-size: 14px\; line-height: 1.38\;"><
 a href="http://www.articket.com.ar/" style="color: rgb(51\, 122\, 183)\;">
 <span style="font-size: 11.5pt\; font-family: Arial\; color: rgb(17\, 85\,
  204)\; font-variant-numeric: normal\; font-variant-east-asian: normal\; t
 ext-decoration-line: underline\; text-decoration-skip-ink: none\; vertical
 -align: baseline\;">www.articket.com.ar</span></a></p><p dir="ltr" style="
 margin: 0pt 0px\; font-family: Abel\, sans-serif\; text-align: center\; te
 xt-size-adjust: 100%\; color: rgb(51\, 51\, 51)\; font-size: 14px\; line-h
 eight: 1.656\;"><br></p><p dir="ltr" style="margin: 0pt 0px\; font-family:
  Abel\, sans-serif\; text-align: center\; text-size-adjust: 100%\; color: 
 rgb(51\, 51\, 51)\; font-size: 14px\; line-height: 1.38\;"><span style="ca
 ret-color: rgb(34\, 34\, 34)\; color: rgb(34\, 34\, 34)\; font-family: Ari
 al\; font-size: 14.6667px\; white-space-collapse: preserve\;"><span style=
 "font-weight: bolder\;">APTO +14 (hasta 00hs)</span></span></p><p dir="ltr
 " style="margin: 0pt 0px\; font-family: Abel\, sans-serif\; text-align: ce
 nter\; text-size-adjust: 100%\; color: rgb(51\, 51\, 51)\; font-size: 14px
 \; line-height: 1.38\;"><span style="caret-color: rgb(34\, 34\, 34)\; colo
 r: rgb(34\, 34\, 34)\; font-family: Arial\; font-size: 14.6667px\; white-s
 pace-collapse: preserve\;"><span style="font-weight: bolder\;"><br></span>
 </span></p><p dir="ltr" style="margin: 0pt 0px\; font-family: Abel\, sans-
 serif\; text-align: center\; text-size-adjust: 100%\; color: rgb(51\, 51\,
  51)\; font-size: 14px\; line-height: 1.38\;"><span style="caret-color: rg
 b(34\, 34\, 34)\; color: rgb(34\, 34\, 34)\; font-family: Arial\; font-siz
 e: 14.6667px\; white-space-collapse: preserve\;"><span style="font-weight:
  bolder\;"><br></span></span></p><p dir="ltr" style="margin: 0pt 0px\; tex
 t-align: center\; line-height: 1.38\;"><font face="Abel\, sans-serif" colo
 r="#9c9c94"><span style="font-size: 12px\;">PROMO BANCO PROVINCIA CONDICIO
 NES:&nbsp\;<a href="https://tr.ee/89uSGj" target="_blank">https://tr.ee/89
 uSGj</a></span></font></p>
END:VEVENT
END:VCALENDAR
