BEGIN:VCALENDAR
VERSION:2.0
PRODID:-//My Calendar//mxm.dk//
BEGIN:VEVENT
SUMMARY:WAYRA EN ABBEY ROAD
DTSTART:20260606T000000Z
DTEND:20260606T080000Z
DTSTAMP:20260424T124439Z
DESCRIPTION:<h2 style="color: rgb(0\, 0\, 0)\; font-family: Nunito\, -appl
 e-system\, BlinkMacSystemFont\, &quot\;Segoe UI&quot\;\, Roboto\, &quot\;H
 elvetica Neue&quot\;\, Arial\, sans-serif\, &quot\;Apple Color Emoji&quot\
 ;\, &quot\;Segoe UI Emoji&quot\;\, &quot\;Segoe UI Symbol&quot\;\, &quot\;
 Noto Color Emoji&quot\;\; text-align: center\;"><b><u>WAYRA</u></b></h2><h
 2 style="color: rgb(0\, 0\, 0)\; font-family: Nunito\, -apple-system\, Bli
 nkMacSystemFont\, &quot\;Segoe UI&quot\;\, Roboto\, &quot\;Helvetica Neue&
 quot\;\, Arial\, sans-serif\, &quot\;Apple Color Emoji&quot\;\, &quot\;Seg
 oe UI Emoji&quot\;\, &quot\;Segoe UI Symbol&quot\;\, &quot\;Noto Color Emo
 ji&quot\;\; text-align: center\;"><b><u><br></u></b></h2><h2 style="color:
  rgb(0\, 0\, 0)\; font-family: Nunito\, -apple-system\, BlinkMacSystemFont
 \, &quot\;Segoe UI&quot\;\, Roboto\, &quot\;Helvetica Neue&quot\;\, Arial\
 , sans-serif\, &quot\;Apple Color Emoji&quot\;\, &quot\;Segoe UI Emoji&quo
 t\;\, &quot\;Segoe UI Symbol&quot\;\, &quot\;Noto Color Emoji&quot\;\; tex
 t-align: center\;"><b><span style="font-size: 18px\;">Bandas invitadas: Gr
 an Barbarie</span></b></h2><h2 style="color: rgb(0\, 0\, 0)\; font-family:
  Nunito\, -apple-system\, BlinkMacSystemFont\, &quot\;Segoe UI&quot\;\, Ro
 boto\, &quot\;Helvetica Neue&quot\;\, Arial\, sans-serif\, &quot\;Apple Co
 lor Emoji&quot\;\, &quot\;Segoe UI Emoji&quot\;\, &quot\;Segoe UI Symbol&q
 uot\;\, &quot\;Noto Color Emoji&quot\;\; text-align: center\;"><b><span st
 yle="font-size: 18px\;">Xcéntrica</span></b></h2><h2 style="color: rgb(0\
 , 0\, 0)\; font-family: Nunito\, -apple-system\, BlinkMacSystemFont\, &quo
 t\;Segoe UI&quot\;\, Roboto\, &quot\;Helvetica Neue&quot\;\, Arial\, sans-
 serif\, &quot\;Apple Color Emoji&quot\;\, &quot\;Segoe UI Emoji&quot\;\, &
 quot\;Segoe UI Symbol&quot\;\, &quot\;Noto Color Emoji&quot\;\; text-align
 : center\;"><u><span style="font-weight: bolder\;"><br></span></u></h2><p 
 style="text-align: center\;"><span style="color: rgb(32\, 31\, 30)\; font-
 family: Arial\; font-size: 11.5pt\;">Entradas anticipadas limitadas en efe
 ctivo:</span></p><p dir="ltr" style="margin: 0pt 0px\; font-family: Abel\,
  sans-serif\; text-align: center\; text-size-adjust: 100%\; color: rgb(51\
 , 51\, 51)\; font-size: 14px\; line-height: 1.656\;"><span style="font-siz
 e: 11pt\; font-family: Arial\; color: rgb(34\, 34\, 34)\; font-variant-num
 eric: normal\; font-variant-east-asian: normal\; vertical-align: baseline\
 ;">&nbsp\;</span></p><p dir="ltr" style="margin: 0pt 0px\; font-family: Ab
 el\, sans-serif\; text-align: center\; text-size-adjust: 100%\; color: rgb
 (51\, 51\, 51)\; font-size: 14px\; line-height: 1.656\;"><span style="font
 -size: 11.5pt\; font-family: Arial\; color: rgb(32\, 31\, 30)\; font-weigh
 t: 700\; font-variant-numeric: normal\; font-variant-east-asian: normal\; 
 vertical-align: baseline\;">La Casa de las Guitarras:</span><span style="f
 ont-size: 11.5pt\; font-family: Arial\; color: rgb(32\, 31\, 30)\; font-va
 riant-numeric: normal\; font-variant-east-asian: normal\; vertical-align: 
 baseline\;">&nbsp\;Belgrano 3420 - Mar del Plata</span></p><p dir="ltr" st
 yle="margin: 0pt 0px\; font-family: Abel\, sans-serif\; text-align: center
 \; color: rgb(51\, 51\, 51)\; font-size: 14px\; line-height: 1.656\;"><spa
 n style="font-size: 11.5pt\; font-family: Arial\; color: rgb(32\, 31\, 30)
 \; background-color: transparent\; font-variant-numeric: normal\; font-var
 iant-east-asian: normal\; vertical-align: baseline\; white-space-collapse:
  preserve\;"><span style="font-weight: bolder\;">FAVA Casa Central:</span>
 </span><span style="font-size: 11.5pt\; font-family: Arial\; color: rgb(32
 \, 31\, 30)\; background-color: transparent\; font-weight: 700\; font-vari
 ant-numeric: normal\; font-variant-east-asian: normal\; vertical-align: ba
 seline\; white-space-collapse: preserve\;"> </span><span style="font-size:
  11.5pt\; font-family: Arial\; color: rgb(32\, 31\, 30)\; background-color
 : transparent\; font-variant-numeric: normal\; font-variant-east-asian: no
 rmal\; vertical-align: baseline\; white-space-collapse: preserve\;">Av. Pe
 dro Luro 3247 - Mar del Plata</span></p><p dir="ltr" style="margin: 0pt 0p
 x\; font-family: Abel\, sans-serif\; text-align: center\; text-size-adjust
 : 100%\; color: rgb(51\, 51\, 51)\; font-size: 14px\; line-height: 1.656\;
 "><br></p><p dir="ltr" style="margin: 0pt 0px\; font-family: Abel\, sans-s
 erif\; text-align: center\; text-size-adjust: 100%\; color: rgb(51\, 51\, 
 51)\; font-size: 14px\; line-height: 1.38\;"><a href="http://www.articket.
 com.ar/" style="color: rgb(51\, 122\, 183)\;"><span style="font-size: 11.5
 pt\; font-family: Arial\; color: rgb(17\, 85\, 204)\; font-variant-numeric
 : normal\; font-variant-east-asian: normal\; text-decoration-line: underli
 ne\; text-decoration-skip-ink: none\; vertical-align: baseline\;">www.arti
 cket.com.ar</span></a></p><p dir="ltr" style="margin: 0pt 0px\; font-famil
 y: Abel\, sans-serif\; text-align: center\; text-size-adjust: 100%\; color
 : rgb(51\, 51\, 51)\; font-size: 14px\; line-height: 1.656\;"><br></p><p d
 ir="ltr" style="margin: 0pt 0px\; font-family: Abel\, sans-serif\; text-al
 ign: center\; text-size-adjust: 100%\; color: rgb(51\, 51\, 51)\; font-siz
 e: 14px\; line-height: 1.38\;"><span style="caret-color: rgb(34\, 34\, 34)
 \; color: rgb(34\, 34\, 34)\; font-family: Arial\; font-size: 14.6667px\; 
 white-space-collapse: preserve\;"><span style="font-weight: bolder\;">APTO
  +14 (hasta 00hs)</span></span></p><p dir="ltr" style="margin: 0pt 0px\; f
 ont-family: Abel\, sans-serif\; text-align: center\; text-size-adjust: 100
 %\; color: rgb(51\, 51\, 51)\; font-size: 14px\; line-height: 1.38\;"><spa
 n style="caret-color: rgb(34\, 34\, 34)\; color: rgb(34\, 34\, 34)\; font-
 family: Arial\; font-size: 14.6667px\; white-space-collapse: preserve\;"><
 span style="font-weight: bolder\;"><br></span></span></p><p dir="ltr" styl
 e="margin: 0pt 0px\; font-family: Abel\, sans-serif\; text-align: center\;
  text-size-adjust: 100%\; color: rgb(51\, 51\, 51)\; font-size: 14px\; lin
 e-height: 1.38\;"><span style="caret-color: rgb(34\, 34\, 34)\; color: rgb
 (34\, 34\, 34)\; font-family: Arial\; font-size: 14.6667px\; white-space-c
 ollapse: preserve\;"><span style="font-weight: bolder\;"><br></span></span
 ></p><p dir="ltr" style="margin: 0pt 0px\; text-align: center\; line-heigh
 t: 1.38\;"><font face="Abel\, sans-serif" color="#9c9c94"><span style="fon
 t-size: 12px\;">PROMO BANCO PROVINCIA CONDICIONES:&nbsp\;<a href="https://
 tr.ee/89uSGj" target="_blank">https://tr.ee/89uSGj</a></span></font></p>
END:VEVENT
END:VCALENDAR
