BEGIN:VCALENDAR
VERSION:2.0
PRODID:-//My Calendar//mxm.dk//
BEGIN:VEVENT
SUMMARY:KARAOKE CON CHARO LOPEZ - CANTAMOS FATAL
DTSTART:20260525T023000Z
DTEND:20260525T070000Z
DTSTAMP:20260424T124756Z
DESCRIPTION:<p style="text-align: center\;"><u style="font-size: 24px\;"><
 b><span style="font-size: 36px\;">CANTAMOS FATAL</span><br>KARAOKE CON CHA
 RO LOPEZ<br>EN CLUB TRI</b></u></p><p style="text-align: center\;"><span s
 tyle="font-size: 24px\;"><u><span style="font-weight: bolder\;"><br></span
 ></u></span></p><p dir="ltr" style="margin: 0pt 0px\; font-family: Abel\, 
 sans-serif\; text-align: center\; color: rgb(51\, 51\, 51)\; font-size: 14
 px\; line-height: 1.656\;"><span style="font-size: 11.5pt\; font-family: A
 rial\; color: rgb(32\, 31\, 30)\; background-color: transparent\; font-var
 iant-numeric: normal\; font-variant-east-asian: normal\; vertical-align: b
 aseline\; white-space-collapse: preserve\;">Entradas anticipadas limitadas
  en efectivo:</span></p><p dir="ltr" style="margin: 0pt 0px\; font-family:
  Abel\, sans-serif\; text-align: center\; color: rgb(51\, 51\, 51)\; font-
 size: 14px\; line-height: 1.656\;"><span style="font-size: 11pt\; font-fam
 ily: Arial\; color: rgb(34\, 34\, 34)\; background-color: transparent\; fo
 nt-variant-numeric: normal\; font-variant-east-asian: normal\; vertical-al
 ign: baseline\; white-space-collapse: preserve\;">&nbsp\;</span></p><p dir
 ="ltr" style="margin: 0pt 0px\; font-family: Abel\, sans-serif\; text-alig
 n: center\; color: rgb(51\, 51\, 51)\; font-size: 14px\; line-height: 1.65
 6\;"><span style="font-size: 11.5pt\; font-family: Arial\; color: rgb(32\,
  31\, 30)\; background-color: transparent\; font-weight: 700\; font-varian
 t-numeric: normal\; font-variant-east-asian: normal\; vertical-align: base
 line\; white-space-collapse: preserve\;">La Casa de las Guitarras:</span><
 span style="font-size: 11.5pt\; font-family: Arial\; color: rgb(32\, 31\, 
 30)\; background-color: transparent\; font-variant-numeric: normal\; font-
 variant-east-asian: normal\; vertical-align: baseline\; white-space-collap
 se: preserve\;"> Belgrano 3420 - Mar del Plata</span></p><p dir="ltr" styl
 e="margin: 0pt 0px\; font-family: Abel\, sans-serif\; text-align: center\;
  color: rgb(51\, 51\, 51)\; font-size: 14px\; line-height: 1.656\;"><span 
 style="font-size: 11.5pt\; font-family: Arial\; color: rgb(32\, 31\, 30)\;
  background-color: transparent\; font-variant-numeric: normal\; font-varia
 nt-east-asian: normal\; vertical-align: baseline\; white-space-collapse: p
 reserve\;"><span style="font-weight: bolder\;">FAVA Casa Central:</span></
 span><span style="font-size: 11.5pt\; font-family: Arial\; color: rgb(32\,
  31\, 30)\; background-color: transparent\; font-weight: 700\; font-varian
 t-numeric: normal\; font-variant-east-asian: normal\; vertical-align: base
 line\; white-space-collapse: preserve\;"> </span><span style="font-size: 1
 1.5pt\; font-family: Arial\; color: rgb(32\, 31\, 30)\; background-color: 
 transparent\; font-variant-numeric: normal\; font-variant-east-asian: norm
 al\; vertical-align: baseline\; white-space-collapse: preserve\;">Av. Pedr
 o Luro 3247 - Mar del Plata</span></p><p dir="ltr" style="margin: 0pt 0px\
 ; font-family: Abel\, sans-serif\; text-align: center\; color: rgb(51\, 51
 \, 51)\; font-size: 14px\; line-height: 1.656\;"><span style="background-c
 olor: transparent\; color: rgb(34\, 34\, 34)\; font-family: Arial\; font-s
 ize: 11pt\; white-space-collapse: preserve\;">&nbsp\;</span></p><p dir="lt
 r" style="margin: 0pt 0px\; font-family: Abel\, sans-serif\; text-align: c
 enter\; color: rgb(51\, 51\, 51)\; font-size: 14px\; line-height: 1.38\;">
 <a href="http://www.articket.com.ar/" style="color: rgb(51\, 122\, 183)\;"
 ><span style="font-size: 11.5pt\; font-family: Arial\; color: rgb(17\, 85\
 , 204)\; font-variant-numeric: normal\; font-variant-east-asian: normal\; 
 text-decoration-line: underline\; text-decoration-skip-ink: none\; vertica
 l-align: baseline\; white-space-collapse: preserve\;">www.articket.com.ar<
 /span></a></p><p dir="ltr" style="margin: 0pt 0px\; font-family: Abel\, sa
 ns-serif\; text-align: center\; color: rgb(51\, 51\, 51)\; font-size: 14px
 \; line-height: 1.656\;"><br></p><p dir="ltr" style="margin: 0pt 0px\; fon
 t-family: Abel\, sans-serif\; text-align: center\; color: rgb(51\, 51\, 51
 )\; font-size: 14px\; line-height: 1.38\;"><span style="font-size: 11pt\; 
 font-family: Arial\; color: rgb(34\, 34\, 34)\; font-variant-numeric: norm
 al\; font-variant-east-asian: normal\; vertical-align: baseline\; white-sp
 ace-collapse: preserve\;"><span style="font-weight: bolder\;">APTO +18 AÑ
 OS</span></span></p><p dir="ltr" style="margin: 0pt 0px\; font-family: Abe
 l\, sans-serif\; text-align: center\; color: rgb(51\, 51\, 51)\; font-size
 : 14px\; line-height: 1.38\;"><span style="font-size: 11pt\; font-family: 
 Arial\; color: rgb(34\, 34\, 34)\; font-variant-numeric: normal\; font-var
 iant-east-asian: normal\; vertical-align: baseline\; white-space-collapse:
  preserve\;"><span style="font-weight: bolder\;"><br></span></span></p><p 
 dir="ltr" style="margin: 0pt 0px\; font-family: Abel\, sans-serif\; text-a
 lign: center\; color: rgb(51\, 51\, 51)\; font-size: 14px\; line-height: 1
 .38\;"><span style="font-size: 11pt\; font-family: Arial\; color: rgb(34\,
  34\, 34)\; font-variant-numeric: normal\; font-variant-east-asian: normal
 \; vertical-align: baseline\; white-space-collapse: preserve\;"><span styl
 e="font-weight: bolder\;"><br></span></span></p><p dir="ltr" style="margin
 : 0pt 0px\; font-family: Abel\, sans-serif\; text-align: center\; color: r
 gb(51\, 51\, 51)\; font-size: 14px\; line-height: 1.38\;"><span style="fon
 t-size: 11pt\; font-family: Arial\; color: rgb(34\, 34\, 34)\; font-varian
 t-numeric: normal\; font-variant-east-asian: normal\; vertical-align: base
 line\; white-space-collapse: preserve\;"><span style="font-weight: bolder\
 ;"><br></span></span></p><p dir="ltr" style="margin: 0pt 0px\; text-align:
  center\; line-height: 1.38\;"><font face="Abel\, sans-serif" color="#9c9c
 94"><span style="font-size: 12px\;">PROMO BANCO PROVINCIA CONDICIONES:&nbs
 p\;<a href="https://tr.ee/89uSGj" target="_blank">https://tr.ee/89uSGj</a>
 </span></font></p><p dir="ltr" style="margin: 0pt 0px\; line-height: 1.38\
 ;"><br></p>
END:VEVENT
END:VCALENDAR
