BEGIN:VCALENDAR
VERSION:2.0
PRODID:-//My Calendar//mxm.dk//
BEGIN:VEVENT
SUMMARY:SUMMER METAL FEST
DTSTART:20240219T000000Z
DTEND:20240219T080000Z
DTSTAMP:20260419T205357Z
DESCRIPTION:<p dir="ltr" style="margin: 0pt 0px\; text-align: center\; lin
 e-height: 1.656\;"><font color="#201f1e" face="Arial"><span style="font-si
 ze: 15.3333px\;"><b><u>SUMMER METAL FEST&nbsp\;</u></b></span></font></p><
 p dir="ltr" style="margin: 0pt 0px\; text-align: center\; line-height: 1.6
 56\;"><font color="#201f1e" face="Arial"><span style="font-size: 15.3333px
 \;"><b><u><br></u></b></span></font></p><div dir="auto" style="text-align:
  center\; color: rgb(34\, 34\, 34)\; font-family: Arial\, Helvetica\, sans
 -serif\; font-size: small\;"><font size="4">EL SUMMER METAL FEST LLEGA A V
 ORTERIX CLUB</font></div><div dir="auto" style=""><div style="text-align: 
 center\;"><font color="#222222" face="Arial\, Helvetica\, sans-serif" size
 ="4"><br></font></div><div style="text-align: center\; color: rgb(34\, 34\
 , 34)\; font-family: Arial\, Helvetica\, sans-serif\; font-size: small\;">
 <font size="4">El domingo 18 de Febrero a las 21 Hs&nbsp\;</font></div><di
 v style="text-align: center\; color: rgb(34\, 34\, 34)\; font-family: Aria
 l\, Helvetica\, sans-serif\; font-size: small\;"><font size="4">AZEROTH</f
 ont></div><div style="text-align: center\; color: rgb(34\, 34\, 34)\; font
 -family: Arial\, Helvetica\, sans-serif\; font-size: small\;"><font size="
 4">LÖRIHEN</font></div><div style="text-align: center\; color: rgb(34\, 3
 4\, 34)\; font-family: Arial\, Helvetica\, sans-serif\; font-size: small\;
 "><font size="4">AGAINST</font></div><div style="text-align: center\; colo
 r: rgb(34\, 34\, 34)\; font-family: Arial\, Helvetica\, sans-serif\; font-
 size: small\;"><font size="4">Y ARMORED DOWN&nbsp\;</font></div><div style
 ="text-align: center\; color: rgb(34\, 34\, 34)\; font-family: Arial\, Hel
 vetica\, sans-serif\; font-size: small\;"><font size="4">se presentan en e
 l escenario de Vorterix Club.</font></div><div style="text-align: center\;
  color: rgb(34\, 34\, 34)\; font-family: Arial\, Helvetica\, sans-serif\; 
 font-size: small\;"><font size="4"><br></font></div><div style="text-align
 : center\; color: rgb(34\, 34\, 34)\; font-family: Arial\, Helvetica\, san
 s-serif\; font-size: small\;"><font size="4">4 BANDAS DE ACERO PURO ABREN 
 LA TEMPORADA 2024 DE METAL ROCK EN MAR DEL PLATA CON UN SHOW MEMORABLE.</f
 ont></div><div style="text-align: center\; color: rgb(34\, 34\, 34)\; font
 -family: Arial\, Helvetica\, sans-serif\; font-size: small\;"><font size="
 4"><br></font></div><div style="text-align: center\; color: rgb(34\, 34\, 
 34)\; font-family: Arial\, Helvetica\, sans-serif\; font-size: small\;"><f
 ont size="4"><br></font></div></div><p dir="ltr" style="margin: 0pt 0px\; 
 font-family: Abel\, sans-serif\; text-align: center\; color: rgb(51\, 51\,
  51)\; font-size: 14px\; line-height: 1.656\;"><span style="font-size: 11.
 5pt\; font-family: Arial\; color: rgb(32\, 31\, 30)\; background-color: tr
 ansparent\; font-variant-numeric: normal\; font-variant-east-asian: normal
 \; vertical-align: baseline\;">Entradas anticipadas limitadas en efectivo:
 </span></p><p dir="ltr" style="margin: 0pt 0px\; font-family: Abel\, sans-
 serif\; text-align: center\; color: rgb(51\, 51\, 51)\; font-size: 14px\; 
 line-height: 1.656\;"><span style="font-size: 11pt\; font-family: Arial\; 
 color: rgb(34\, 34\, 34)\; background-color: transparent\; font-variant-nu
 meric: normal\; font-variant-east-asian: normal\; vertical-align: baseline
 \;">&nbsp\;</span></p><p dir="ltr" style="margin: 0pt 0px\; font-family: A
 bel\, sans-serif\; text-align: center\; color: rgb(51\, 51\, 51)\; font-si
 ze: 14px\; line-height: 1.656\;"><span style="font-size: 11.5pt\; font-fam
 ily: Arial\; color: rgb(32\, 31\, 30)\; background-color: transparent\; fo
 nt-weight: 700\; font-variant-numeric: normal\; font-variant-east-asian: n
 ormal\; vertical-align: baseline\;">La Casa de las Guitarras:</span><span 
 style="font-size: 11.5pt\; font-family: Arial\; color: rgb(32\, 31\, 30)\;
  background-color: transparent\; font-variant-numeric: normal\; font-varia
 nt-east-asian: normal\; vertical-align: baseline\;">&nbsp\;Belgrano 3420 -
  Mar del Plata</span></p><p dir="ltr" style="margin: 0pt 0px\; font-family
 : Abel\, sans-serif\; text-align: center\; color: rgb(51\, 51\, 51)\; font
 -size: 14px\; line-height: 1.656\;"><span style="font-size: 11.5pt\; font-
 family: Arial\; color: rgb(32\, 31\, 30)\; background-color: transparent\;
  font-weight: 700\; font-variant-numeric: normal\; font-variant-east-asian
 : normal\; vertical-align: baseline\;">CONEX:&nbsp\;</span><span style="fo
 nt-size: 11.5pt\; font-family: Arial\; color: rgb(32\, 31\, 30)\; backgrou
 nd-color: transparent\; font-variant-numeric: normal\; font-variant-east-a
 sian: normal\; vertical-align: baseline\;">San Martín 3263 - Mar del Plat
 a</span></p><p dir="ltr" style="margin: 0pt 0px\; font-family: Abel\, sans
 -serif\; text-align: center\; color: rgb(51\, 51\, 51)\; font-size: 14px\;
  line-height: 1.656\;"><span style="font-size: 11pt\; font-family: Arial\;
  color: rgb(34\, 34\, 34)\; background-color: transparent\; font-variant-n
 umeric: normal\; font-variant-east-asian: normal\; vertical-align: baselin
 e\;">&nbsp\;</span></p><p dir="ltr" style="margin: 0pt 0px\; font-family: 
 Abel\, sans-serif\; text-align: center\; color: rgb(51\, 51\, 51)\; font-s
 ize: 14px\; line-height: 1.38\;"><a href="http://www.articket.com.ar/" sty
 le="color: rgb(51\, 122\, 183)\;"><span style="font-size: 11.5pt\; font-fa
 mily: Arial\; color: rgb(17\, 85\, 204)\; font-variant-numeric: normal\; f
 ont-variant-east-asian: normal\; text-decoration-line: underline\; text-de
 coration-skip-ink: none\; vertical-align: baseline\;">www.articket.com.ar<
 /span></a></p><p dir="ltr" style="margin: 0pt 0px\; font-family: Abel\, sa
 ns-serif\; text-align: center\; color: rgb(51\, 51\, 51)\; font-size: 14px
 \; line-height: 1.656\;"><br></p><p style="color: rgb(187\, 0\, 0)\; font-
 family: Abel\, sans-serif\; text-align: center\; background-color: rgb(243
 \, 211\, 212)\;"><span style="font-weight: bolder\;"><span style="font-siz
 e: 18px\;">PROHIBIDO EL INGRESO A MENORES DE 5 AÑOS.</span></span></p><p 
 style="color: rgb(187\, 0\, 0)\; font-family: Abel\, sans-serif\; text-ali
 gn: center\; background-color: rgb(243\, 211\, 212)\;"><span style="font-w
 eight: bolder\;"><span style="font-size: 18px\;">PROHIBIDO EL INGRESO CON 
 BEBIDAS O COMIDA.</span></span></p>
END:VEVENT
END:VCALENDAR
