BEGIN:VCALENDAR
VERSION:2.0
PRODID:-//My Calendar//mxm.dk//
BEGIN:VEVENT
SUMMARY:HORCAS EN MAR DEL PLATA
DTSTART:20240519T000000Z
DTEND:20240519T080000Z
DTSTAMP:20260425T151812Z
DESCRIPTION:<p dir="ltr" style="margin: 0pt 0px\; font-family: Abel\, sans
 -serif\; text-align: center\; color: rgb(51\, 51\, 51)\; font-size: 14px\;
  line-height: 1.656\;"><font color="#201f1e" face="Arial"><span style="fon
 t-size: 15.3333px\; white-space-collapse: preserve\;"><b style="text-decor
 ation-line: underline\; font-weight: bold !important\;">HORCAS</b></span><
 /font></p><p dir="ltr" style="margin: 0pt 0px\; font-family: Abel\, sans-s
 erif\; text-align: center\; color: rgb(51\, 51\, 51)\; font-size: 14px\; l
 ine-height: 1.656\;"><font color="#201f1e" face="Arial"><span style="font-
 size: 15.3333px\; white-space-collapse: preserve\;"><span style="font-weig
 ht: 700\;"><u><span style="color: rgb(34\, 34\, 34)\; font-family: Arial\,
  Helvetica\, sans-serif\; font-size: small\; font-weight: 400\; text-align
 : start\; white-space-collapse: collapse\;"><br></span></u></span></span><
 /font></p><p dir="ltr" style="margin: 0pt 0px\; font-family: Abel\, sans-s
 erif\; text-align: center\; color: rgb(51\, 51\, 51)\; font-size: 14px\; l
 ine-height: 1.656\;"><span style="font-size: 11.5pt\; font-family: Arial\;
  color: rgb(32\, 31\, 30)\; background-color: transparent\; font-variant-n
 umeric: normal\; font-variant-east-asian: normal\; vertical-align: baselin
 e\; white-space-collapse: preserve\;">Entradas anticipadas limitadas en ef
 ectivo:</span></p><p dir="ltr" style="margin: 0pt 0px\; font-family: Abel\
 , sans-serif\; text-align: center\; color: rgb(51\, 51\, 51)\; font-size: 
 14px\; line-height: 1.656\;"><span style="font-size: 11pt\; font-family: A
 rial\; color: rgb(34\, 34\, 34)\; background-color: transparent\; font-var
 iant-numeric: normal\; font-variant-east-asian: normal\; vertical-align: b
 aseline\; white-space-collapse: preserve\;">&nbsp\;</span></p><p dir="ltr"
  style="margin: 0pt 0px\; font-family: Abel\, sans-serif\; text-align: cen
 ter\; color: rgb(51\, 51\, 51)\; font-size: 14px\; line-height: 1.656\;"><
 span style="font-size: 11.5pt\; font-family: Arial\; color: rgb(32\, 31\, 
 30)\; background-color: transparent\; font-weight: 700\; font-variant-nume
 ric: normal\; font-variant-east-asian: normal\; vertical-align: baseline\;
  white-space-collapse: preserve\;">La Casa de las Guitarras:</span><span s
 tyle="font-size: 11.5pt\; font-family: Arial\; color: rgb(32\, 31\, 30)\; 
 background-color: transparent\; font-variant-numeric: normal\; font-varian
 t-east-asian: normal\; vertical-align: baseline\; white-space-collapse: pr
 eserve\;"> Belgrano 3420 - Mar del Plata</span></p><p dir="ltr" style="mar
 gin: 0pt 0px\; font-family: Abel\, sans-serif\; text-align: center\; color
 : rgb(51\, 51\, 51)\; font-size: 14px\; line-height: 1.656\;"><span style=
 "font-size: 11.5pt\; font-family: Arial\; color: rgb(32\, 31\, 30)\; backg
 round-color: transparent\; font-weight: 700\; font-variant-numeric: normal
 \; font-variant-east-asian: normal\; vertical-align: baseline\; white-spac
 e-collapse: preserve\;">CONEX: </span><span style="font-size: 11.5pt\; fon
 t-family: Arial\; color: rgb(32\, 31\, 30)\; background-color: transparent
 \; font-variant-numeric: normal\; font-variant-east-asian: normal\; vertic
 al-align: baseline\; white-space-collapse: preserve\;">San Martín 3263 - 
 Mar del Plata</span></p><p dir="ltr" style="margin: 0pt 0px\; font-family:
  Abel\, sans-serif\; text-align: center\; color: rgb(51\, 51\, 51)\; font-
 size: 14px\; line-height: 1.656\;"><span style="font-size: 11.5pt\; font-f
 amily: Arial\; color: rgb(32\, 31\, 30)\; background-color: transparent\; 
 font-weight: 700\; font-variant-numeric: normal\; font-variant-east-asian:
  normal\; vertical-align: baseline\; white-space-collapse: preserve\;">ADN
  Store:</span><span style="font-size: 11.5pt\; font-family: Arial\; color:
  rgb(32\, 31\, 30)\; background-color: transparent\; font-variant-numeric:
  normal\; font-variant-east-asian: normal\; vertical-align: baseline\; whi
 te-space-collapse: preserve\;"> Calle 61 N° 2813 - Necochea&nbsp\;</span>
 </p><p dir="ltr" style="margin: 0pt 0px\; font-family: Abel\, sans-serif\;
  text-align: center\; color: rgb(51\, 51\, 51)\; font-size: 14px\; line-he
 ight: 1.656\;"><span style="font-size: 15.3333px\; color: rgb(32\, 31\, 30
 )\; font-family: Arial\;"><br></span></p><p dir="ltr" style="margin: 0pt 0
 px\; font-family: Abel\, sans-serif\; text-align: center\; color: rgb(51\,
  51\, 51)\; font-size: 14px\; line-height: 1.38\;"><a href="http://www.art
 icket.com.ar/" style="color: rgb(51\, 122\, 183)\;"><span style="font-size
 : 11.5pt\; font-family: Arial\; color: rgb(17\, 85\, 204)\; font-variant-n
 umeric: normal\; font-variant-east-asian: normal\; text-decoration-line: u
 nderline\; text-decoration-skip-ink: none\; vertical-align: baseline\; whi
 te-space-collapse: preserve\;">www.articket.com.ar</span></a></p><p dir="l
 tr" style="margin: 0pt 0px\; font-family: Abel\, sans-serif\; text-align: 
 center\; color: rgb(51\, 51\, 51)\; font-size: 14px\; line-height: 1.656\;
 "><br></p><p dir="ltr" style="margin: 0pt 0px\; font-family: Abel\, sans-s
 erif\; text-align: center\; color: rgb(51\, 51\, 51)\; font-size: 14px\; l
 ine-height: 1.38\;"><span style="font-size: 11pt\; font-family: Arial\; co
 lor: rgb(34\, 34\, 34)\; font-weight: 700\; font-variant-numeric: normal\;
  font-variant-east-asian: normal\; vertical-align: baseline\; white-space-
 collapse: preserve\;">APTO +14 (hasta 00hs)</span></p>
END:VEVENT
END:VCALENDAR
