BEGIN:VCALENDAR
VERSION:2.0
PRODID:-//My Calendar//mxm.dk//
BEGIN:VEVENT
SUMMARY:AIRBAG
DTSTART:20240602T000000Z
DTEND:20240602T080000Z
DTSTAMP:20260422T121738Z
DESCRIPTION:<p dir="ltr" style="margin: 0pt 0px\; font-family: Abel\, sans
 -serif\; text-align: center\; text-size-adjust: 100%\; color: rgb(51\, 51\
 , 51)\; font-size: 14px\; line-height: 1.656\;"><font color="#201f1e" face
 ="Arial"><span style="font-size: 15.3333px\;"><b style="text-decoration-li
 ne: underline\;">AIRBAG</b><br><br>Sábado 01/06 (AGOTADO)<br><br><b style
 ="text-decoration-line: underline\;">NUEVA FECHA:</b><br>Domingo 02/06 (AG
 OTADO)</span></font></p><p dir="ltr" style="margin: 0pt 0px\; font-family:
  Abel\, sans-serif\; text-align: center\; text-size-adjust: 100%\; color: 
 rgb(51\, 51\, 51)\; font-size: 14px\; line-height: 1.656\;"><font color="#
 201f1e" face="Arial"><span style="font-size: 15.3333px\;"><span style="fon
 t-weight: 700\; text-decoration-line: underline\;"><br></span></span></fon
 t></p><p class="MsoNormal" style="margin-right: 0px\; margin-bottom: 10pt\
 ; margin-left: 0px\; text-align: center\; text-size-adjust: 100%\; line-he
 ight: 14.95px\;"><font color="#222222" face="Arial"><span style="font-size
 : 14.6667px\;">Luego de presentarse ante más de 45 mil personas en Vélez
  y haber realizado 4 Estadio Luna Park\,<br>Airbag anuncia su regreso a Ma
 r del Plata en uno de los mejores momentos de su carrera.</span></font></p
 ><p class="MsoNormal" style="margin-right: 0px\; margin-bottom: 10pt\; mar
 gin-left: 0px\; text-align: center\; text-size-adjust: 100%\; line-height:
  14.95px\;"><font color="#222222" face="Arial"><span style="font-size: 14.
 6667px\;">La cita será el sábado 1° de junio\, 20hs\, en el Estadio Onc
 e Unidos (Roldán 52)</span></font></p><p dir="ltr" style="margin: 0pt 0px
 \; font-family: Abel\, sans-serif\; text-align: center\; text-size-adjust:
  100%\; color: rgb(51\, 51\, 51)\; font-size: 14px\; line-height: 1.656\;"
 ><font color="#201f1e" face="Arial"><span style="font-size: 15.3333px\;"><
 span style="font-weight: 700\; text-decoration-line: underline\;"><br></sp
 an></span></font></p><p dir="ltr" style="margin: 0pt 0px\; font-family: Ab
 el\, sans-serif\; text-align: center\; text-size-adjust: 100%\; color: rgb
 (51\, 51\, 51)\; font-size: 14px\; line-height: 1.656\;"><font color="#201
 f1e" face="Arial"><span style="font-size: 15.3333px\;"><u style="font-weig
 ht: 700\;"></u></span></font></p><p dir="ltr" style="margin: 0pt 0px\; fon
 t-family: Abel\, sans-serif\; text-align: center\; text-size-adjust: 100%\
 ; color: rgb(51\, 51\, 51)\; font-size: 14px\; line-height: 1.656\;"><span
  style="color: rgb(32\, 31\, 30)\; font-family: Arial\; font-size: 11.5pt\
 ;">Entradas anticipadas limitadas en efectivo:</span></p><p dir="ltr" styl
 e="margin: 0pt 0px\; font-family: Abel\, sans-serif\; text-align: center\;
  text-size-adjust: 100%\; color: rgb(51\, 51\, 51)\; font-size: 14px\; lin
 e-height: 1.656\;"><span style="font-size: 11pt\; font-family: Arial\; col
 or: rgb(34\, 34\, 34)\; font-variant-numeric: normal\; font-variant-east-a
 sian: normal\; vertical-align: baseline\;">&nbsp\;</span></p><p dir="ltr" 
 style="margin: 0pt 0px\; font-family: Abel\, sans-serif\; text-align: cent
 er\; text-size-adjust: 100%\; color: rgb(51\, 51\, 51)\; font-size: 14px\;
  line-height: 1.656\;"><span style="font-size: 11.5pt\; font-family: Arial
 \; color: rgb(32\, 31\, 30)\; font-weight: 700\; font-variant-numeric: nor
 mal\; font-variant-east-asian: normal\; vertical-align: baseline\;">La Cas
 a de las Guitarras:</span><span style="font-size: 11.5pt\; font-family: Ar
 ial\; color: rgb(32\, 31\, 30)\; font-variant-numeric: normal\; font-varia
 nt-east-asian: normal\; vertical-align: baseline\;">&nbsp\;Belgrano 3420 -
  Mar del Plata</span></p><p dir="ltr" style="margin: 0pt 0px\; font-family
 : Abel\, sans-serif\; text-align: center\; text-size-adjust: 100%\; color:
  rgb(51\, 51\, 51)\; font-size: 14px\; line-height: 1.656\;"><span style="
 font-size: 11.5pt\; font-family: Arial\; color: rgb(32\, 31\, 30)\; font-w
 eight: 700\; font-variant-numeric: normal\; font-variant-east-asian: norma
 l\; vertical-align: baseline\;">CONEX:&nbsp\;</span><span style="font-size
 : 11.5pt\; font-family: Arial\; color: rgb(32\, 31\, 30)\; font-variant-nu
 meric: normal\; font-variant-east-asian: normal\; vertical-align: baseline
 \;">San Martín 3263 - Mar del Plata</span></p><p dir="ltr" style="margin:
  0pt 0px\; font-family: Abel\, sans-serif\; text-align: center\; text-size
 -adjust: 100%\; color: rgb(51\, 51\, 51)\; font-size: 14px\; line-height: 
 1.656\;"><span style="font-size: 11.5pt\; font-family: Arial\; color: rgb(
 32\, 31\, 30)\; font-weight: 700\; font-variant-numeric: normal\; font-var
 iant-east-asian: normal\; vertical-align: baseline\;">ADN Store:</span><sp
 an style="font-size: 11.5pt\; font-family: Arial\; color: rgb(32\, 31\, 30
 )\; font-variant-numeric: normal\; font-variant-east-asian: normal\; verti
 cal-align: baseline\;">&nbsp\;Calle 61 N° 2813 - Necochea</span></p><p di
 r="ltr" style="margin: 0pt 0px\; font-family: Abel\, sans-serif\; text-ali
 gn: center\; text-size-adjust: 100%\; color: rgb(51\, 51\, 51)\; font-size
 : 14px\; line-height: 1.656\;"><span style="font-size: 11.5pt\; font-famil
 y: Arial\; color: rgb(32\, 31\, 30)\; font-variant-numeric: normal\; font-
 variant-east-asian: normal\; vertical-align: baseline\;"><span style="colo
 r: rgb(34\, 34\, 34)\; font-size: 11pt\;">&nbsp\;</span></span><span style
 ="caret-color: rgb(51\, 51\, 51)\; font-size: 11.5pt\; font-family: Arial\
 ; color: rgb(32\, 31\, 30)\; font-weight: 700\; font-variant-numeric: norm
 al\; font-variant-east-asian: normal\; vertical-align: baseline\;">TecnoCe
 ntro:</span><span style="caret-color: rgb(51\, 51\, 51)\; font-size: 11.5p
 t\; font-family: Arial\; color: rgb(32\, 31\, 30)\; font-variant-numeric: 
 normal\; font-variant-east-asian: normal\; vertical-align: baseline\;">&nb
 sp\;Rivadavia 3065 -&nbsp\;Olavarria</span></p><p dir="ltr" style="margin:
  0pt 0px\; font-family: Abel\, sans-serif\; text-align: center\; text-size
 -adjust: 100%\; color: rgb(51\, 51\, 51)\; font-size: 14px\; line-height: 
 1.656\;"><span style="caret-color: rgb(51\, 51\, 51)\; font-size: 11.5pt\;
  font-family: Arial\; color: rgb(32\, 31\, 30)\; font-variant-numeric: nor
 mal\; font-variant-east-asian: normal\; vertical-align: baseline\;"><b>Fix
  Up Tattoo Studio:</b>&nbsp\;Alsina 933 -&nbsp\;Tandil<span style="font-we
 ight: bolder\;">&nbsp\;</span>(PDV sustentable)<br></span></p><div><span s
 tyle="caret-color: rgb(51\, 51\, 51)\; font-size: 11.5pt\; font-family: Ar
 ial\; color: rgb(32\, 31\, 30)\; font-variant-numeric: normal\; font-varia
 nt-east-asian: normal\; vertical-align: baseline\;"><span style="font-weig
 ht: 700\;"><br></span></span></div><p dir="ltr" style="margin: 0pt 0px\; f
 ont-family: Abel\, sans-serif\; text-align: center\; text-size-adjust: 100
 %\; color: rgb(51\, 51\, 51)\; font-size: 14px\; line-height: 1.38\;"><a h
 ref="http://www.articket.com.ar/" style="color: rgb(51\, 122\, 183)\;"><sp
 an style="font-size: 11.5pt\; font-family: Arial\; color: rgb(17\, 85\, 20
 4)\; font-variant-numeric: normal\; font-variant-east-asian: normal\; text
 -decoration-line: underline\; text-decoration-skip-ink: none\; vertical-al
 ign: baseline\;">www.articket.com.ar</span></a></p><p class="MsoNormal" st
 yle="margin-right: 0px\; margin-bottom: 10pt\; margin-left: 0px\; text-ali
 gn: center\; text-size-adjust: 100%\; color: rgb(34\, 34\, 34)\; font-fami
 ly: Arial\, Helvetica\, sans-serif\; font-size: small\; line-height: 14.95
 px\;"><span style="font-family: Calibri\, sans-serif\;"><br></span></p><p 
 class="MsoNormal" style="margin-right: 0px\; margin-bottom: 10pt\; margin-
 left: 0px\; text-align: center\; text-size-adjust: 100%\; color: rgb(34\, 
 34\, 34)\; font-family: Arial\, Helvetica\, sans-serif\; font-size: small\
 ; line-height: 14.95px\;"><span style="font-family: Calibri\, sans-serif\;
 "><span style="font-weight: 700\; font-family: Arial\; font-size: 14.6667p
 x\;">EVENTO ATP (+3) Asistir con el HardTicket en mano o el QR descargado 
 en el celular.<br>No se aceptan cambios ni devoluciones.<br><br>-----<br><
 br></span></span></p><p class="MsoNormal" style="margin-right: 0px\; margi
 n-bottom: 10pt\; margin-left: 0px\; text-align: center\; text-size-adjust:
  100%\; line-height: 14.95px\;"><font color="#222222" face="Arial"><span s
 tyle="font-size: 14.6667px\;">Airbag cerró el 2023 brindando el show más
  grande de su carrera hasta<br></span></font><span style="font-size: 14.66
 67px\; color: rgb(34\, 34\, 34)\; font-family: Arial\;">el momento\, su pr
 imer Estadio Vélez con entradas agotadas y una<br></span><span style="col
 or: rgb(34\, 34\, 34)\; font-family: Arial\; font-size: 14.6667px\;">celeb
 ración ante más de 45 mil personas.</span></p><p class="MsoNormal" style
 ="margin-right: 0px\; margin-bottom: 10pt\; margin-left: 0px\; text-align:
  center\; text-size-adjust: 100%\; line-height: 14.95px\;"><font color="#2
 22222" face="Arial"><span style="font-size: 14.6667px\;">Los hermanos Sard
 elli dejan una marca insuperable cada vez que suben a<br></span></font><sp
 an style="font-size: 14.6667px\; color: rgb(34\, 34\, 34)\; font-family: A
 rial\;">un escenario\, una conexión explosiva con sus fans y versiones si
 empre nuevas<br></span><span style="color: rgb(34\, 34\, 34)\; font-family
 : Arial\; font-size: 14.6667px\;">y sorpresivas de las canciones que escri
 ben su trayectoria.</span></p><p class="MsoNormal" style="margin-right: 0p
 x\; margin-bottom: 10pt\; margin-left: 0px\; text-align: center\; text-siz
 e-adjust: 100%\; line-height: 14.95px\;"><font color="#222222" face="Arial
 "><span style="font-size: 14.6667px\;">Buscando nuevos momentos inolvidabl
 es en el 2024 anunciaron su regreso al<br></span></font><span style="font-
 size: 14.6667px\; color: rgb(34\, 34\, 34)\; font-family: Arial\;">Estadio
  Luna Park de Buenos Aires\, un encuentro muy esperado por su público<br>
 </span><span style="font-size: 14.6667px\; color: rgb(34\, 34\, 34)\; font
 -family: Arial\;">y un show más cercano con toda la potencia y energía<b
 r>a la que nos tienen&nbsp\;</span><span style="color: rgb(34\, 34\, 34)\;
  font-family: Arial\; font-size: 14.6667px\;">acostumbrados.</span></p><p 
 class="MsoNormal" style="margin-right: 0px\; margin-bottom: 10pt\; margin-
 left: 0px\; text-align: center\; text-size-adjust: 100%\; line-height: 14.
 95px\;"><font color="#222222" face="Arial"><span style="font-size: 14.6667
 px\;">Patricio\, Guido y Gaston Sardelli vienen transitando una gran etapa
  y son una<br></span></font><span style="color: rgb(34\, 34\, 34)\; font-f
 amily: Arial\; font-size: 14.6667px\;">de las bandas más convocantes del 
 país.</span></p><p class="MsoNormal" style="margin-right: 0px\; margin-bo
 ttom: 10pt\; margin-left: 0px\; text-align: center\; text-size-adjust: 100
 %\; line-height: 14.95px\;"><font color="#222222" face="Arial"><span style
 ="font-size: 14.6667px\;">Más de 350.000 personas ya fueron parte de la c
 elebración de Airbag en lo<br></span></font><span style="font-size: 14.66
 67px\; color: rgb(34\, 34\, 34)\; font-family: Arial\;">que va de este añ
 o en el Cosquín Rock y la Fiesta de la Confluencia.<br></span><span style
 ="font-size: 14.6667px\; color: rgb(34\, 34\, 34)\; font-family: Arial\;">
 Además de su actividad sobre el escenario\, Airbag no deja de sorprender 
 y<br></span><span style="font-size: 14.6667px\; color: rgb(34\, 34\, 34)\;
  font-family: Arial\;">trabajar en estudio para regalar nuevas canciones.<
 br>Su último single “Nunca lo&nbsp\;</span><span style="font-size: 14.6
 667px\; color: rgb(34\, 34\, 34)\; font-family: Arial\;">Olvides” que so
 nó en Vélez por primera<br>vez ya se ha convertido en otro hit.</span></
 p>
END:VEVENT
BEGIN:VEVENT
SUMMARY:AIRBAG
DTSTART:20240603T000000Z
DTEND:20240603T080000Z
DTSTAMP:20260422T121738Z
DESCRIPTION:<p dir="ltr" style="margin: 0pt 0px\; font-family: Abel\, sans
 -serif\; text-align: center\; text-size-adjust: 100%\; color: rgb(51\, 51\
 , 51)\; font-size: 14px\; line-height: 1.656\;"><font color="#201f1e" face
 ="Arial"><span style="font-size: 15.3333px\;"><b style="text-decoration-li
 ne: underline\;">AIRBAG</b><br><br>Sábado 01/06 (AGOTADO)<br><br><b style
 ="text-decoration-line: underline\;">NUEVA FECHA:</b><br>Domingo 02/06 (AG
 OTADO)</span></font></p><p dir="ltr" style="margin: 0pt 0px\; font-family:
  Abel\, sans-serif\; text-align: center\; text-size-adjust: 100%\; color: 
 rgb(51\, 51\, 51)\; font-size: 14px\; line-height: 1.656\;"><font color="#
 201f1e" face="Arial"><span style="font-size: 15.3333px\;"><span style="fon
 t-weight: 700\; text-decoration-line: underline\;"><br></span></span></fon
 t></p><p class="MsoNormal" style="margin-right: 0px\; margin-bottom: 10pt\
 ; margin-left: 0px\; text-align: center\; text-size-adjust: 100%\; line-he
 ight: 14.95px\;"><font color="#222222" face="Arial"><span style="font-size
 : 14.6667px\;">Luego de presentarse ante más de 45 mil personas en Vélez
  y haber realizado 4 Estadio Luna Park\,<br>Airbag anuncia su regreso a Ma
 r del Plata en uno de los mejores momentos de su carrera.</span></font></p
 ><p class="MsoNormal" style="margin-right: 0px\; margin-bottom: 10pt\; mar
 gin-left: 0px\; text-align: center\; text-size-adjust: 100%\; line-height:
  14.95px\;"><font color="#222222" face="Arial"><span style="font-size: 14.
 6667px\;">La cita será el sábado 1° de junio\, 20hs\, en el Estadio Onc
 e Unidos (Roldán 52)</span></font></p><p dir="ltr" style="margin: 0pt 0px
 \; font-family: Abel\, sans-serif\; text-align: center\; text-size-adjust:
  100%\; color: rgb(51\, 51\, 51)\; font-size: 14px\; line-height: 1.656\;"
 ><font color="#201f1e" face="Arial"><span style="font-size: 15.3333px\;"><
 span style="font-weight: 700\; text-decoration-line: underline\;"><br></sp
 an></span></font></p><p dir="ltr" style="margin: 0pt 0px\; font-family: Ab
 el\, sans-serif\; text-align: center\; text-size-adjust: 100%\; color: rgb
 (51\, 51\, 51)\; font-size: 14px\; line-height: 1.656\;"><font color="#201
 f1e" face="Arial"><span style="font-size: 15.3333px\;"><u style="font-weig
 ht: 700\;"></u></span></font></p><p dir="ltr" style="margin: 0pt 0px\; fon
 t-family: Abel\, sans-serif\; text-align: center\; text-size-adjust: 100%\
 ; color: rgb(51\, 51\, 51)\; font-size: 14px\; line-height: 1.656\;"><span
  style="color: rgb(32\, 31\, 30)\; font-family: Arial\; font-size: 11.5pt\
 ;">Entradas anticipadas limitadas en efectivo:</span></p><p dir="ltr" styl
 e="margin: 0pt 0px\; font-family: Abel\, sans-serif\; text-align: center\;
  text-size-adjust: 100%\; color: rgb(51\, 51\, 51)\; font-size: 14px\; lin
 e-height: 1.656\;"><span style="font-size: 11pt\; font-family: Arial\; col
 or: rgb(34\, 34\, 34)\; font-variant-numeric: normal\; font-variant-east-a
 sian: normal\; vertical-align: baseline\;">&nbsp\;</span></p><p dir="ltr" 
 style="margin: 0pt 0px\; font-family: Abel\, sans-serif\; text-align: cent
 er\; text-size-adjust: 100%\; color: rgb(51\, 51\, 51)\; font-size: 14px\;
  line-height: 1.656\;"><span style="font-size: 11.5pt\; font-family: Arial
 \; color: rgb(32\, 31\, 30)\; font-weight: 700\; font-variant-numeric: nor
 mal\; font-variant-east-asian: normal\; vertical-align: baseline\;">La Cas
 a de las Guitarras:</span><span style="font-size: 11.5pt\; font-family: Ar
 ial\; color: rgb(32\, 31\, 30)\; font-variant-numeric: normal\; font-varia
 nt-east-asian: normal\; vertical-align: baseline\;">&nbsp\;Belgrano 3420 -
  Mar del Plata</span></p><p dir="ltr" style="margin: 0pt 0px\; font-family
 : Abel\, sans-serif\; text-align: center\; text-size-adjust: 100%\; color:
  rgb(51\, 51\, 51)\; font-size: 14px\; line-height: 1.656\;"><span style="
 font-size: 11.5pt\; font-family: Arial\; color: rgb(32\, 31\, 30)\; font-w
 eight: 700\; font-variant-numeric: normal\; font-variant-east-asian: norma
 l\; vertical-align: baseline\;">CONEX:&nbsp\;</span><span style="font-size
 : 11.5pt\; font-family: Arial\; color: rgb(32\, 31\, 30)\; font-variant-nu
 meric: normal\; font-variant-east-asian: normal\; vertical-align: baseline
 \;">San Martín 3263 - Mar del Plata</span></p><p dir="ltr" style="margin:
  0pt 0px\; font-family: Abel\, sans-serif\; text-align: center\; text-size
 -adjust: 100%\; color: rgb(51\, 51\, 51)\; font-size: 14px\; line-height: 
 1.656\;"><span style="font-size: 11.5pt\; font-family: Arial\; color: rgb(
 32\, 31\, 30)\; font-weight: 700\; font-variant-numeric: normal\; font-var
 iant-east-asian: normal\; vertical-align: baseline\;">ADN Store:</span><sp
 an style="font-size: 11.5pt\; font-family: Arial\; color: rgb(32\, 31\, 30
 )\; font-variant-numeric: normal\; font-variant-east-asian: normal\; verti
 cal-align: baseline\;">&nbsp\;Calle 61 N° 2813 - Necochea</span></p><p di
 r="ltr" style="margin: 0pt 0px\; font-family: Abel\, sans-serif\; text-ali
 gn: center\; text-size-adjust: 100%\; color: rgb(51\, 51\, 51)\; font-size
 : 14px\; line-height: 1.656\;"><span style="font-size: 11.5pt\; font-famil
 y: Arial\; color: rgb(32\, 31\, 30)\; font-variant-numeric: normal\; font-
 variant-east-asian: normal\; vertical-align: baseline\;"><span style="colo
 r: rgb(34\, 34\, 34)\; font-size: 11pt\;">&nbsp\;</span></span><span style
 ="caret-color: rgb(51\, 51\, 51)\; font-size: 11.5pt\; font-family: Arial\
 ; color: rgb(32\, 31\, 30)\; font-weight: 700\; font-variant-numeric: norm
 al\; font-variant-east-asian: normal\; vertical-align: baseline\;">TecnoCe
 ntro:</span><span style="caret-color: rgb(51\, 51\, 51)\; font-size: 11.5p
 t\; font-family: Arial\; color: rgb(32\, 31\, 30)\; font-variant-numeric: 
 normal\; font-variant-east-asian: normal\; vertical-align: baseline\;">&nb
 sp\;Rivadavia 3065 -&nbsp\;Olavarria</span></p><p dir="ltr" style="margin:
  0pt 0px\; font-family: Abel\, sans-serif\; text-align: center\; text-size
 -adjust: 100%\; color: rgb(51\, 51\, 51)\; font-size: 14px\; line-height: 
 1.656\;"><span style="caret-color: rgb(51\, 51\, 51)\; font-size: 11.5pt\;
  font-family: Arial\; color: rgb(32\, 31\, 30)\; font-variant-numeric: nor
 mal\; font-variant-east-asian: normal\; vertical-align: baseline\;"><b>Fix
  Up Tattoo Studio:</b>&nbsp\;Alsina 933 -&nbsp\;Tandil<span style="font-we
 ight: bolder\;">&nbsp\;</span>(PDV sustentable)<br></span></p><div><span s
 tyle="caret-color: rgb(51\, 51\, 51)\; font-size: 11.5pt\; font-family: Ar
 ial\; color: rgb(32\, 31\, 30)\; font-variant-numeric: normal\; font-varia
 nt-east-asian: normal\; vertical-align: baseline\;"><span style="font-weig
 ht: 700\;"><br></span></span></div><p dir="ltr" style="margin: 0pt 0px\; f
 ont-family: Abel\, sans-serif\; text-align: center\; text-size-adjust: 100
 %\; color: rgb(51\, 51\, 51)\; font-size: 14px\; line-height: 1.38\;"><a h
 ref="http://www.articket.com.ar/" style="color: rgb(51\, 122\, 183)\;"><sp
 an style="font-size: 11.5pt\; font-family: Arial\; color: rgb(17\, 85\, 20
 4)\; font-variant-numeric: normal\; font-variant-east-asian: normal\; text
 -decoration-line: underline\; text-decoration-skip-ink: none\; vertical-al
 ign: baseline\;">www.articket.com.ar</span></a></p><p class="MsoNormal" st
 yle="margin-right: 0px\; margin-bottom: 10pt\; margin-left: 0px\; text-ali
 gn: center\; text-size-adjust: 100%\; color: rgb(34\, 34\, 34)\; font-fami
 ly: Arial\, Helvetica\, sans-serif\; font-size: small\; line-height: 14.95
 px\;"><span style="font-family: Calibri\, sans-serif\;"><br></span></p><p 
 class="MsoNormal" style="margin-right: 0px\; margin-bottom: 10pt\; margin-
 left: 0px\; text-align: center\; text-size-adjust: 100%\; color: rgb(34\, 
 34\, 34)\; font-family: Arial\, Helvetica\, sans-serif\; font-size: small\
 ; line-height: 14.95px\;"><span style="font-family: Calibri\, sans-serif\;
 "><span style="font-weight: 700\; font-family: Arial\; font-size: 14.6667p
 x\;">EVENTO ATP (+3) Asistir con el HardTicket en mano o el QR descargado 
 en el celular.<br>No se aceptan cambios ni devoluciones.<br><br>-----<br><
 br></span></span></p><p class="MsoNormal" style="margin-right: 0px\; margi
 n-bottom: 10pt\; margin-left: 0px\; text-align: center\; text-size-adjust:
  100%\; line-height: 14.95px\;"><font color="#222222" face="Arial"><span s
 tyle="font-size: 14.6667px\;">Airbag cerró el 2023 brindando el show más
  grande de su carrera hasta<br></span></font><span style="font-size: 14.66
 67px\; color: rgb(34\, 34\, 34)\; font-family: Arial\;">el momento\, su pr
 imer Estadio Vélez con entradas agotadas y una<br></span><span style="col
 or: rgb(34\, 34\, 34)\; font-family: Arial\; font-size: 14.6667px\;">celeb
 ración ante más de 45 mil personas.</span></p><p class="MsoNormal" style
 ="margin-right: 0px\; margin-bottom: 10pt\; margin-left: 0px\; text-align:
  center\; text-size-adjust: 100%\; line-height: 14.95px\;"><font color="#2
 22222" face="Arial"><span style="font-size: 14.6667px\;">Los hermanos Sard
 elli dejan una marca insuperable cada vez que suben a<br></span></font><sp
 an style="font-size: 14.6667px\; color: rgb(34\, 34\, 34)\; font-family: A
 rial\;">un escenario\, una conexión explosiva con sus fans y versiones si
 empre nuevas<br></span><span style="color: rgb(34\, 34\, 34)\; font-family
 : Arial\; font-size: 14.6667px\;">y sorpresivas de las canciones que escri
 ben su trayectoria.</span></p><p class="MsoNormal" style="margin-right: 0p
 x\; margin-bottom: 10pt\; margin-left: 0px\; text-align: center\; text-siz
 e-adjust: 100%\; line-height: 14.95px\;"><font color="#222222" face="Arial
 "><span style="font-size: 14.6667px\;">Buscando nuevos momentos inolvidabl
 es en el 2024 anunciaron su regreso al<br></span></font><span style="font-
 size: 14.6667px\; color: rgb(34\, 34\, 34)\; font-family: Arial\;">Estadio
  Luna Park de Buenos Aires\, un encuentro muy esperado por su público<br>
 </span><span style="font-size: 14.6667px\; color: rgb(34\, 34\, 34)\; font
 -family: Arial\;">y un show más cercano con toda la potencia y energía<b
 r>a la que nos tienen&nbsp\;</span><span style="color: rgb(34\, 34\, 34)\;
  font-family: Arial\; font-size: 14.6667px\;">acostumbrados.</span></p><p 
 class="MsoNormal" style="margin-right: 0px\; margin-bottom: 10pt\; margin-
 left: 0px\; text-align: center\; text-size-adjust: 100%\; line-height: 14.
 95px\;"><font color="#222222" face="Arial"><span style="font-size: 14.6667
 px\;">Patricio\, Guido y Gaston Sardelli vienen transitando una gran etapa
  y son una<br></span></font><span style="color: rgb(34\, 34\, 34)\; font-f
 amily: Arial\; font-size: 14.6667px\;">de las bandas más convocantes del 
 país.</span></p><p class="MsoNormal" style="margin-right: 0px\; margin-bo
 ttom: 10pt\; margin-left: 0px\; text-align: center\; text-size-adjust: 100
 %\; line-height: 14.95px\;"><font color="#222222" face="Arial"><span style
 ="font-size: 14.6667px\;">Más de 350.000 personas ya fueron parte de la c
 elebración de Airbag en lo<br></span></font><span style="font-size: 14.66
 67px\; color: rgb(34\, 34\, 34)\; font-family: Arial\;">que va de este añ
 o en el Cosquín Rock y la Fiesta de la Confluencia.<br></span><span style
 ="font-size: 14.6667px\; color: rgb(34\, 34\, 34)\; font-family: Arial\;">
 Además de su actividad sobre el escenario\, Airbag no deja de sorprender 
 y<br></span><span style="font-size: 14.6667px\; color: rgb(34\, 34\, 34)\;
  font-family: Arial\;">trabajar en estudio para regalar nuevas canciones.<
 br>Su último single “Nunca lo&nbsp\;</span><span style="font-size: 14.6
 667px\; color: rgb(34\, 34\, 34)\; font-family: Arial\;">Olvides” que so
 nó en Vélez por primera<br>vez ya se ha convertido en otro hit.</span></
 p>
END:VEVENT
END:VCALENDAR
