BEGIN:VCALENDAR
VERSION:2.0
PRODID:-//My Calendar//mxm.dk//
BEGIN:VEVENT
SUMMARY:CORDEROS
DTSTART:20240811T000000Z
DTEND:20240811T080000Z
DTSTAMP:20260426T012537Z
DESCRIPTION:<p dir="ltr" style="margin: 0pt 0px\; text-align: center\; lin
 e-height: 1.656\;"><font color="#201f1e" face="Arial"><span style="font-si
 ze: 15.3333px\;"><b><u>CORDEROS</u></b></span></font></p><p dir="ltr" styl
 e="margin: 0pt 0px\; text-align: center\; line-height: 1.656\;"><font colo
 r="#201f1e" face="Arial"><span style="font-size: 15.3333px\;"><b><u>APERIT
 IVO D'INTINO</u></b></span></font></p><div dir="auto" style="text-align: c
 enter\;"><div><div style="color: rgb(34\, 34\, 34)\; font-family: Arial\, 
 Helvetica\, sans-serif\; font-size: small\;"><p class="MsoNormal" style="m
 argin: 0cm 0cm 8pt\; line-height: 15.6933px\; font-size: 11pt\; font-famil
 y: Calibri\, sans-serif\;"><span style="font-size: 11pt\; line-height: 34.
 24px\; font-family: &quot\;Segoe UI&quot\;\, sans-serif\; color: black\; b
 ackground-image: initial\; background-position: initial\; background-size:
  initial\; background-repeat: initial\; background-origin: initial\; backg
 round-clip: initial\;"><span style="color: rgb(34\, 34\, 34)\; font-family
 : Arial\, Helvetica\, sans-serif\; font-size: small\; text-align: start\;"
 >Corderos se presenta en Vorterix Club</span><br style="color: rgb(34\, 34
 \, 34)\; font-family: Arial\, Helvetica\, sans-serif\; font-size: small\; 
 text-align: start\;"><span style="color: rgb(34\, 34\, 34)\; font-family: 
 Arial\, Helvetica\, sans-serif\; font-size: small\; text-align: start\;">L
 a banda marplatense CORDEROS\, ganadora del Premio Estrella de Mar en el r
 ubro Música Marplatense\, se presentará el sábado 10 de agosto a las 21
  hs en Vorterix Club (Diag. Pueyrredón 3338)</span></span></p><p class="M
 soNormal" style="margin: 0cm 0cm 8pt\; line-height: 15.6933px\; font-size:
  11pt\; font-family: Calibri\, sans-serif\;"><span style="font-size: 11pt\
 ; line-height: 34.24px\; font-family: &quot\;Segoe UI&quot\;\, sans-serif\
 ; color: black\; background-image: initial\; background-position: initial\
 ; background-size: initial\; background-repeat: initial\; background-origi
 n: initial\; background-clip: initial\;"><span style="color: rgb(34\, 34\,
  34)\; font-family: Arial\, Helvetica\, sans-serif\; font-size: small\; te
 xt-align: start\;">Banda Invitada: APERITIVO DINTINO&nbsp\;</span></span><
 /p><p class="MsoNormal" style="margin: 0cm 0cm 8pt\; line-height: 15.6933p
 x\; font-size: 11pt\; font-family: Calibri\, sans-serif\;"><br></p><p clas
 s="MsoNormal" style="margin: 0cm 0cm 8pt\; line-height: 15.6933px\; font-s
 ize: 11pt\; font-family: Calibri\, sans-serif\;"><span style="background-c
 olor: transparent\; color: rgb(32\, 31\, 30)\; font-family: Arial\; font-s
 ize: 11.5pt\;">Entradas anticipadas limitadas en efectivo:</span></p></div
 ></div></div><p dir="ltr" style="margin: 0pt 0px\; font-family: Abel\, san
 s-serif\; text-align: center\; color: rgb(51\, 51\, 51)\; font-size: 14px\
 ; line-height: 1.656\;"><span style="font-size: 11pt\; font-family: Arial\
 ; color: rgb(34\, 34\, 34)\; background-color: transparent\; font-variant-
 numeric: normal\; font-variant-east-asian: normal\; vertical-align: baseli
 ne\;">&nbsp\;</span></p><p dir="ltr" style="margin: 0pt 0px\; font-family:
  Abel\, sans-serif\; text-align: center\; color: rgb(51\, 51\, 51)\; font-
 size: 14px\; line-height: 1.656\;"><span style="font-size: 11.5pt\; font-f
 amily: Arial\; color: rgb(32\, 31\, 30)\; background-color: transparent\; 
 font-weight: 700\; font-variant-numeric: normal\; font-variant-east-asian:
  normal\; vertical-align: baseline\;">La Casa de las Guitarras:</span><spa
 n style="font-size: 11.5pt\; font-family: Arial\; color: rgb(32\, 31\, 30)
 \; background-color: transparent\; font-variant-numeric: normal\; font-var
 iant-east-asian: normal\; vertical-align: baseline\;">&nbsp\;Belgrano 3420
  - Mar del Plata</span></p><p dir="ltr" style="margin: 0pt 0px\; font-fami
 ly: Abel\, sans-serif\; text-align: center\; color: rgb(51\, 51\, 51)\; fo
 nt-size: 14px\; line-height: 1.656\;"><span style="font-size: 11.5pt\; fon
 t-family: Arial\; color: rgb(32\, 31\, 30)\; background-color: transparent
 \; font-weight: 700\; font-variant-numeric: normal\; font-variant-east-asi
 an: normal\; vertical-align: baseline\;">CONEX:&nbsp\;</span><span style="
 font-size: 11.5pt\; font-family: Arial\; color: rgb(32\, 31\, 30)\; backgr
 ound-color: transparent\; font-variant-numeric: normal\; font-variant-east
 -asian: normal\; vertical-align: baseline\;">San Martín 3263 - Mar del Pl
 ata</span></p><p dir="ltr" style="margin: 0pt 0px\; font-family: Abel\, sa
 ns-serif\; text-align: center\; color: rgb(51\, 51\, 51)\; font-size: 14px
 \; line-height: 1.656\;"><span style="font-size: 11pt\; font-family: Arial
 \; color: rgb(34\, 34\, 34)\; background-color: transparent\; font-variant
 -numeric: normal\; font-variant-east-asian: normal\; vertical-align: basel
 ine\;">&nbsp\;</span></p><p dir="ltr" style="margin: 0pt 0px\; font-family
 : Abel\, sans-serif\; text-align: center\; color: rgb(51\, 51\, 51)\; font
 -size: 14px\; line-height: 1.38\;"><a href="http://www.articket.com.ar/" t
 arget="_blank">www.articket.com.ar</a><a href="http://www.articket.com.ar/
 " target="_blank"></a></p><p dir="ltr" style="margin: 0pt 0px\; font-famil
 y: Abel\, sans-serif\; text-align: center\; color: rgb(51\, 51\, 51)\; fon
 t-size: 14px\; line-height: 1.38\;"><br></p><p dir="ltr" style="margin: 0p
 t 0px\; font-family: Abel\, sans-serif\; text-align: center\; color: rgb(5
 1\, 51\, 51)\; font-size: 14px\; line-height: 1.38\;"><br></p><p style="fo
 nt-family: Abel\, sans-serif\; text-align: center\; color: rgb(187\, 0\, 0
 )\; background-color: rgb(243\, 211\, 212)\;"><span style="font-weight: bo
 lder\;"><span style="font-size: 18px\;">PROHIBIDO EL INGRESO A MENORES DE 
 5 AÑOS.</span></span></p><p style="font-family: Abel\, sans-serif\; text-
 align: center\; color: rgb(187\, 0\, 0)\; background-color: rgb(243\, 211\
 , 212)\;"><span style="font-weight: bolder\;"><span style="font-size: 18px
 \;">PROHIBIDO EL INGRESO CON BEBIDAS O COMIDA.</span></span></p><p style="
 font-family: Abel\, sans-serif\; text-align: center\; color: rgb(187\, 0\,
  0)\; background-color: rgb(243\, 211\, 212)\;"><span style="font-weight: 
 bolder\;"><span style="font-size: 18px\;">EVENTO CON SALA FORMATO CAFÉ CO
 NCERT</span></span></p>
END:VEVENT
END:VCALENDAR
